BEGIN:VCALENDAR
VERSION:2.0
PRODID:-//wp-events-plugin.com//7.2.3.1//EN
TZID:America/New_York
X-WR-TIMEZONE:America/New_York
BEGIN:VEVENT
UID:733@breatheatlanta.us
DTSTART;TZID=America/New_York:20241209T100000
DTEND;TZID=America/New_York:20241231T190000
DTSTAMP:20241204T061822Z
URL:https://breatheatlanta.us/events/van-gogh-the-immersive-experience/
SUMMARY:Van Gogh: The Immersive Experience
DESCRIPTION:The acclaimed digital art exhibition\, Van Gogh: The Immersive 
 Experience\, has returned to Atlanta with a breathtaking new show. This in
 novative 360-degree display invites visitors to immerse themselves in the 
 captivating universe of Vincent van Gogh\, the legendary Dutch painter who
 se works continue to inspire awe and wonder.\nA Global Phenomenon Reimagin
 ed\nOrganized by Exhibition Hub\, the creators of widely celebrated art ex
 periences across Europe\, Asia\, and the Americas\, this latest iteration 
 of Van Gogh: The Immersive Experience has been completely revamped. Now fe
 aturing newly designed rooms and immersive elements\, the exhibit offers f
 resh perspectives on Van Gogh's genius. After enthralling millions of art 
 lovers across the United States\, this world-class attraction is ready to 
 mesmerize audiences in Atlanta once again.\nAn Unforgettable Journey Throu
 gh Van Gogh’s World\n\n 	360-Degree Digital Projections\nExperience Van 
 Gogh’s masterpieces like never before with cutting-edge digital projecti
 ons that transform his iconic works into a living\, breathing universe. Th
 is multisensory journey allows visitors to walk through Starry Night\, Sun
 flowers\, and other celebrated pieces\, fully enveloped by the colors\, te
 xtures\, and emotions of his artistry.\n 	A One-of-a-Kind VR Experience\nT
 he exhibition takes immersion to the next level with a virtual reality exp
 erience that invites guests to "step inside" Van Gogh's life. Wander throu
 gh the vibrant landscapes and intimate settings that inspired some of his 
 most famous works. From the wheat fields of Arles to his iconic bedroom\, 
 this interactive feature offers a deeper understanding of the man behind t
 he brush.\n 	Light and Sound Spectacle\nA mesmerizing blend of light\, col
 or\, and music amplifies the emotional resonance of Van Gogh's art. The un
 iquely atmospheric show creates a sensory experience that feels both intim
 ate and grand\, offering a new way to connect with his profound creativity
 .\n\nDiscover Van Gogh’s Life and Secrets\nIn addition to the immersive 
 elements\, the exhibition delves into the artist's life\, uncovering his p
 ersonal struggles\, inspirations\, and the secrets hidden within his paint
 ings. Through engaging displays and detailed storytelling\, visitors gain 
 an intimate portrait of one of the 19th century's greatest artistic minds.
 \n\nVan Gogh: The Immersive Experience isn’t just an art exhibition—it
 ’s a transformative journey that bridges the gap between observer and cr
 eator. Whether you’re a lifelong admirer of Van Gogh or new to his work\
 , this one-of-a-kind event promises to transport you into the heart of his
  genius. Don’t miss your chance to step into the art\; secure your ticke
 ts today for an unforgettable adventure in Atlanta.\n\nGET TICKETS\n
ATTACH;FMTTYPE=image/jpeg:https://breatheatlanta.us/wp-content/uploads/202
 4/12/Screenshot-2024-12-04-115914.png
CATEGORIES:Things To Do
LOCATION:Exhibition Hub Atlanta Art Center\, 5660 Buford Highway Northeast\
 , Doraville\, Atlanta\, Georgia\, 30340\, GA\, United States
X-APPLE-STRUCTURED-LOCATION;VALUE=URI;X-ADDRESS=5660 Buford Highway Northea
 st\, Doraville\, Atlanta\, Georgia\, 30340\, GA\, United States;X-APPLE-RA
 DIUS=100;X-TITLE=Exhibition Hub Atlanta Art Center:geo:0,0
END:VEVENT
BEGIN:VTIMEZONE
TZID:America/New_York
X-LIC-LOCATION:America/New_York
BEGIN:STANDARD
DTSTART:20241103T010000
TZOFFSETFROM:-0400
TZOFFSETTO:-0500
TZNAME:EST
END:STANDARD
END:VTIMEZONE
END:VCALENDAR