BEGIN:VCALENDAR
VERSION:2.0
PRODID:-//wp-events-plugin.com//7.2.3.1//EN
TZID:America/New_York
X-WR-TIMEZONE:America/New_York
BEGIN:VEVENT
UID:377@breatheatlanta.us
DTSTART;TZID=America/New_York:20240823T200000
DTEND;TZID=America/New_York:20240823T213000
DTSTAMP:20240730T170653Z
URL:https://breatheatlanta.us/events/vibrational-alchemy/
SUMMARY:Vibrational Alchemy
DESCRIPTION:Join us for an enchanting journey of transformation and renewal
  at the Vibrational Alchemy: Evening Floating Sound Bath Experience. This 
 unique event invites participants to immerse themselves in the healing fre
 quencies of a floating sound bath\, meticulously designed to transmute low
  vibrations and negative energies into higher vibrational frequencies.\n\n
 Event Highlights:\n\n 	Healing Frequencies: Experience a floating sound ba
 th that uses resonant tones to elevate your spirit and enhance your well-b
 eing.\n 	Deep Relaxation: Achieve profound relaxation as the soothing soun
 ds wash over you\, dissolving stress and tension.\n 	Chakra Alignment: Har
 monize your energy centers and promote inner balance through targeted soun
 d healing.\n 	Renewed Vitality: Leave the session feeling revitalized\, wi
 th a heightened sense of clarity and peace.\n\nAbout the Experience:\n\nPe
 rfect for those seeking inner harmony and personal transformation\, this e
 vening event will take place at the beautiful L’Eau Hill House in Atlant
 a. The serene and picturesque setting provides the ideal backdrop for this
  alchemical journey\, ensuring a tranquil and immersive experience.\n\nWhe
 ther you are new to sound baths or a seasoned practitioner\, the Vibration
 al Alchemy: Evening Floating Sound Bath Experience offers a powerful oppor
 tunity to elevate your spirit and connect with your inner self. Join us an
 d embark on a path to renewal and higher vibrations.\n\nGET TICKETS\n
ATTACH;FMTTYPE=image/jpeg:https://breatheatlanta.us/wp-content/uploads/202
 4/07/Vibrational-Alchemy-Evening-Floating-Sound-Bath-Experience.jpg
CATEGORIES:Mindfulness Events,Things To Do,Wellness Events
LOCATION:1272 Hill St SE\, 1272 Hill Street Southeast Atlanta\, Atlanta\, U
 nited States\, 30315\, GA \, United States
X-APPLE-STRUCTURED-LOCATION;VALUE=URI;X-ADDRESS=1272 Hill Street Southeast 
 Atlanta\, Atlanta\, United States\, 30315\, GA \, United States;X-APPLE-RA
 DIUS=100;X-TITLE=1272 Hill St SE:geo:0,0
END:VEVENT
BEGIN:VTIMEZONE
TZID:America/New_York
X-LIC-LOCATION:America/New_York
BEGIN:DAYLIGHT
DTSTART:20240310T030000
TZOFFSETFROM:-0500
TZOFFSETTO:-0400
TZNAME:EDT
END:DAYLIGHT
END:VTIMEZONE
END:VCALENDAR