BEGIN:VCALENDAR
VERSION:2.0
PRODID:-//wp-events-plugin.com//7.2.3.1//EN
TZID:America/New_York
X-WR-TIMEZONE:America/New_York
BEGIN:VEVENT
UID:304@breatheatlanta.us
DTSTART;TZID=America/New_York:20240707T100000
DTEND;TZID=America/New_York:20240707T100000
DTSTAMP:20240626T180910Z
URL:https://breatheatlanta.us/events/warrior-wellness-mens-yoga-class/
SUMMARY:Warrior Wellness | Men’s Yoga Class
DESCRIPTION:Embrace the power of connection and rejuvenation at the Warrior
  Wellness Men's Yoga Class! Hosted at 568 Lee St SW\, Suite K\, this in-pe
 rson session is tailored specifically for men of all yoga experience level
 s. Whether you're a novice or an experienced yogi\, this class offers a un
 ique opportunity to engage in an empowering practice that fosters physical
 \, mental\, and communal well-being.\nWhat to Expect\n\n 	Inclusive Enviro
 nment: This class welcomes men of all ages and fitness levels. Whether you
 ’re new to yoga or a seasoned practitioner\, you'll find a supportive co
 mmunity here.\n 	Holistic Approach: Engage in a practice that combines phy
 sical postures\, breathwork\, and mindfulness\, designed to enhance your o
 verall well-being.\n 	Empowerment and Strength: Experience a yoga session 
 that focuses on building strength\, flexibility\, and mental clarity. Conn
 ect deeply with your body and mind\, discovering your inner warrior.\n 	Co
 mmunity Connection: Meet and connect with like-minded men who are also on 
 a journey of self-improvement and wellness. Build a sense of camaraderie a
 nd support that extends beyond the yoga mat.\n\nBenefits of Warrior Wellne
 ss Yoga\n\n 	Physical Strength: Improve muscle tone\, flexibility\, and ov
 erall physical strength.\n 	Mental Clarity: Reduce stress\, enhance focus\
 , and achieve a state of mental calmness.\n 	Emotional Balance: Develop em
 otional resilience and a deeper understanding of yourself.\n 	Community Su
 pport: Be part of a community that encourages and supports each other’s 
 wellness journeys.\n\nJoin Us\nDon’t miss this opportunity to transform 
 your well-being through yoga. This Warrior Wellness session is more than j
 ust a class\; it’s a chance to step into a community of men dedicated to
  personal growth and holistic health.\n\nGET TICKETS\n
ATTACH;FMTTYPE=image/jpeg:https://breatheatlanta.us/wp-content/uploads/202
 4/06/Warrior-Wellness-Mens-Yoga-Class.jpg
CATEGORIES:Wellness Events,Yoga Events
LOCATION:568 Lee St SW suite k\, 568 Lee Street Southwest #suite k\, Atlant
 a\, Georgia\, 30310\, GA\, United States
X-APPLE-STRUCTURED-LOCATION;VALUE=URI;X-ADDRESS=568 Lee Street Southwest #s
 uite k\, Atlanta\, Georgia\, 30310\, GA\, United States;X-APPLE-RADIUS=100
 ;X-TITLE=568 Lee St SW suite k:geo:0,0
END:VEVENT
BEGIN:VTIMEZONE
TZID:America/New_York
X-LIC-LOCATION:America/New_York
BEGIN:DAYLIGHT
DTSTART:20240310T030000
TZOFFSETFROM:-0500
TZOFFSETTO:-0400
TZNAME:EDT
END:DAYLIGHT
END:VTIMEZONE
END:VCALENDAR