BEGIN:VCALENDAR
VERSION:2.0
PRODID:-//wp-events-plugin.com//7.2.3.1//EN
TZID:America/New_York
X-WR-TIMEZONE:America/New_York
BEGIN:VEVENT
UID:597@breatheatlanta.us
DTSTART;TZID=America/New_York:20241108T180000
DTEND;TZID=America/New_York:20241109T173000
DTSTAMP:20241010T162605Z
URL:https://breatheatlanta.us/events/we-need-to-heal/
SUMMARY:We Need to Heal
DESCRIPTION:We Need to Heal is a transformative day event dedicated to addr
 essing often-taboo topics within Christian communities. This gathering aim
 s to confront and discuss issues that bind individuals\, offering a pathwa
 y to liberation and healing.\n\nThroughout the event\, attendees will hear
  from inspiring speakers who will share their personal journeys of struggl
 e\, resilience\, and redemption\, providing powerful testimonies designed 
 to break strongholds. Participants can look forward to engaging workshops\
 , thought-provoking poetry\, worship sessions\, a healing forum\, and life
 -changing discussions that encourage openness and vulnerability.\n\nDiscus
 sion Topics will include sensitive yet essential subjects such as pornogra
 phy\, masturbation\, homosexuality\, promiscuity\, bloodline curses\, witc
 hcraft\, abuse\, suicide\, adultery\, idolatry\, and demonic covenants and
  altars. This event emphasizes the importance of healing before entering 2
 025\, urging individuals to confront their challenges and embrace the jour
 ney toward wholeness. Don’t miss this opportunity to find freedom and co
 nnect with others on a similar path—because together\, we need to heal!\
 n\nGET TICKETS\n
ATTACH;FMTTYPE=image/jpeg:https://breatheatlanta.us/wp-content/uploads/202
 4/10/We-Need-to-Heal.jpeg
CATEGORIES:Wellness Events
LOCATION:Gwinnett County Fairgrounds\, 2405 Sugarloaf Parkway Lawrenceville
 \, Parkway Lawrenceville\, California\,  30045\, CA\, United States
X-APPLE-STRUCTURED-LOCATION;VALUE=URI;X-ADDRESS=2405 Sugarloaf Parkway Lawr
 enceville\, Parkway Lawrenceville\, California\,  30045\, CA\, United Stat
 es;X-APPLE-RADIUS=100;X-TITLE=Gwinnett County Fairgrounds:geo:0,0
END:VEVENT
BEGIN:VTIMEZONE
TZID:America/New_York
X-LIC-LOCATION:America/New_York
BEGIN:STANDARD
DTSTART:20241103T010000
TZOFFSETFROM:-0400
TZOFFSETTO:-0500
TZNAME:EST
END:STANDARD
END:VTIMEZONE
END:VCALENDAR