BEGIN:VCALENDAR
VERSION:2.0
PRODID:-//wp-events-plugin.com//7.2.3.1//EN
TZID:America/New_York
X-WR-TIMEZONE:America/New_York
BEGIN:VEVENT
UID:112@breatheatlanta.us
DTSTART;TZID=America/New_York:20240403T190000
DTEND;TZID=America/New_York:20240403T203000
DTSTAMP:20240322T085032Z
URL:https://breatheatlanta.us/events/wed-meditation-class/
SUMMARY:Wed Meditation Class
DESCRIPTION:Experience the transformative gift of inner peace by joining us
  weekly at the Georgia Meditation Center! Embark on a journey of self-disc
 overy and tranquility as we delve into the depths of meditation practice. 
 Let go of stress and embrace serenity in a supportive and nurturing enviro
 nment.\n\nEvent Information:\n\nEvent Name: Wed Meditation Class\n\nHost: 
 Georgia Meditation Circle\n\nDate and Time: Wednesday\, April 3 • 7:00 -
  8:30 pm EDT\n\nLocation: Georgia Meditation Center\, 4522 Tilly Mill Road
  Atlanta\, GA 30360\, United States\n\nAbout this Event: Weekly at the Geo
 rgia Meditation Center to discover the gift of inner peace. Led by certifi
 ed meditation coaches and Buddhist monks with over 10 years of ordainment 
 experience\, our sessions provide a sanctuary for relaxation and introspec
 tion. The schedule includes stretching and an introduction\, followed by m
 editation and concluding with a wisdom talk. Embrace the opportunity to le
 arn ancient wisdom\, explore meditation methods\, and uncover your true pu
 rpose in a supportive environment. Every session promises inspiration and 
 encouragement to cultivate a regular meditation practice.\n\nTicket Inform
 ation:\n\nGeneral Admission: $5.00 (+$1.94 Fee)\n\nFree General Admission 
 (Sales end on Apr 3\, 2024)\n\nGET TICKETS\n\nWorkout Session Detail: Not 
 applicable to this event.\n\nEssential for Attendees:\n\nOpen-mindedness t
 owards meditation and self-reflection.\n\nWillingness to learn from certif
 ied meditation coaches and Buddhist monks.\n\nComfortable clothing for str
 etching and meditation.\n\nParking Option: Not specified in the provided i
 nformation.\n\nRefund Policy: Contact the organizer to request a refund. E
 ventbrite's fee is nonrefundable.
ATTACH;FMTTYPE=image/jpeg:https://breatheatlanta.us/wp-content/uploads/202
 4/03/00000000000-1.jpg
CATEGORIES:Wellness Events
LOCATION:Georgia Meditation Center\,   4522 Tilly Mill \, \, Road Atlanta\,
  United States\, 30360 \, GA \, United States
X-APPLE-STRUCTURED-LOCATION;VALUE=URI;X-ADDRESS=  4522 Tilly Mill \, \, Roa
 d Atlanta\, United States\, 30360 \, GA \, United States;X-APPLE-RADIUS=10
 0;X-TITLE=Georgia Meditation Center:geo:0,0
END:VEVENT
BEGIN:VTIMEZONE
TZID:America/New_York
X-LIC-LOCATION:America/New_York
BEGIN:DAYLIGHT
DTSTART:20240310T030000
TZOFFSETFROM:-0500
TZOFFSETTO:-0400
TZNAME:EDT
END:DAYLIGHT
END:VTIMEZONE
END:VCALENDAR