BEGIN:VCALENDAR
VERSION:2.0
PRODID:-//wp-events-plugin.com//7.2.3.1//EN
TZID:America/New_York
X-WR-TIMEZONE:America/New_York
BEGIN:VEVENT
UID:554@breatheatlanta.us
DTSTART;TZID=America/New_York:20241008T214000
DTEND;TZID=America/New_York:20241008T221000
DTSTAMP:20241001T143104Z
URL:https://breatheatlanta.us/events/weekday-meditation-atlanta-ga-reflect
 -prepare-rejuvenate/
SUMMARY:Weekday Meditation\, Atlanta\, GA | Reflect\, Prepare\, Rejuvenate
DESCRIPTION:Embark on a peaceful journey of self-reflection and rejuvenatio
 n with Weekday Meditation\, a 30-minute guided meditation designed to help
  you reflect on the past week\, set a positive intention for the days ahea
 d\, and deeply relax. Whether you're looking for inner peace\, emotional h
 ealing\, or simply a moment of stillness\, each session offers a unique ap
 proach to mindfulness and relaxation\, incorporating techniques like full-
 body scans\, chakra meditation\, and inner child healing. You’ll leave e
 ach meditation session feeling centered\, renewed\, and ready to face the 
 week ahead with clarity.\n\nWeekly Schedule:\n\n 	Monday: Metta Bhavana (L
 oving Kindness Meditation)—cultivate compassion and empathy.\n 	Tuesday:
  Chakra Balancing—may include mantra chanting to realign your energy cen
 ters.\n 	Wednesday: Yoga Nidra Meditation—a deep relaxation practice for
  restorative healing.\n 	Thursday: Inner Child Healing—may include breat
 h awareness and pranayama to address emotional wounds.\n 	Friday: Full Bod
 y Scan—using progressive muscle relaxation techniques to release tension
 .\n\nSome sessions may also incorporate Tibetan Sound Bath Healing\, enhan
 cing the meditative experience with vibrational sound therapy.\nWhat to Ex
 pect:\n\n 	Profound relaxation and stress relief\n 	Guided meditations des
 igned to bring clarity\, focus\, and peace of mind\n 	Tibetan sound healin
 g to promote vibrational harmony\n 	Breathwork techniques for enhanced phy
 sical and emotional well-being\n\nWhat to Bring:\n\n 	Comfortable clothing
 \n 	A quiet and cozy space for meditation\n 	Optional: headphones for a mo
 re immersive sound experience\n\nDos and Don'ts:\nBefore the Session:\n\n 
 	Do create a tranquil\, quiet space for your practice\n 	Do inform househo
 ld members to minimize distractions\n 	Don’t eat heavy meals immediately
  before meditation\n\nAfter the Session:\n\n 	Do take a few moments for si
 lent reflection to deepen your experience\n 	Do hydrate and nourish your b
 ody after the session\n 	Don’t rush into demanding activities\; allow yo
 urself to ease back into your day\n\nHow to Make the Most of These Session
 s:\n\n 	Feel free to ask questions and clear any doubts with the instructo
 r after the session. For private discussions\, contact us at contact@coqui
 halla.com.\n 	Share your experiences with fellow practitioners and join ou
 r community on Slack or Facebook. Email us to join and connect with like-m
 inded individuals.\n 	If there's anything we can do to make your experienc
 e better\, don’t hesitate to reach out!\n\nRediscover balance and peace 
 in your daily life with Weekday Meditation—a simple yet powerful way to 
 nurture your mind\, body\, and spirit.\\\n\nGET TICKETS\n
ATTACH;FMTTYPE=image/jpeg:https://breatheatlanta.us/wp-content/uploads/202
 4/10/Weekday-Meditation-Atlanta-GA-Reflect-Prepare-Rejuvenate.jpeg
CATEGORIES:Yoga Events
LOCATION:Atlanta\, Atlanta\,  Atlanta\, United States\, GA\, United States
X-APPLE-STRUCTURED-LOCATION;VALUE=URI;X-ADDRESS=Atlanta\,  Atlanta\, United
  States\, GA\, United States;X-APPLE-RADIUS=100;X-TITLE=Atlanta:geo:0,0
END:VEVENT
BEGIN:VTIMEZONE
TZID:America/New_York
X-LIC-LOCATION:America/New_York
BEGIN:DAYLIGHT
DTSTART:20240310T030000
TZOFFSETFROM:-0500
TZOFFSETTO:-0400
TZNAME:EDT
END:DAYLIGHT
END:VTIMEZONE
END:VCALENDAR