BEGIN:VCALENDAR
VERSION:2.0
PRODID:-//wp-events-plugin.com//7.2.3.1//EN
TZID:America/New_York
X-WR-TIMEZONE:America/New_York
BEGIN:VEVENT
UID:239@breatheatlanta.us
DTSTART;TZID=America/New_York:20240429T160000
DTEND;TZID=America/New_York:20240429T170000
DTSTAMP:20240409T155946Z
URL:https://breatheatlanta.us/events/weekly-depression-mental-health/
SUMMARY:Weekly Depression/Mental Health Support Group
DESCRIPTION:\nFind Hope and Support: Weekly Depression/Mental Health Group\
 nAre you struggling with feelings of depression or other mental health cha
 llenges? You're not alone. Join our supportive Weekly Depression/Mental He
 alth Support Group.\nA Safe Space to Connect:\nThis group offers a safe an
 d confidential space to connect with others who understand what you're goi
 ng through. Here you can:\n\n\n 	Share Your Story: Express your feelings a
 nd experiences without judgment.\n 	Find Encouragement: Receive support an
 d build connections with people who share similar struggles.\n 	Learn Copi
 ng Strategies: Discover new tools and techniques for managing depression a
 nd improving mental well-being.\n\nBenefits of Joining:\nThis group provid
 es several benefits for anyone facing depression or mental health challeng
 es:\n\n\n 	Reduced Feelings of Isolation: Connect with others and build a 
 network of support.\n 	Enhanced Self-Esteem: Gain confidence through share
 d experiences and positive reinforcement.\n 	Improved Coping Skills: Devel
 op practical strategies for managing symptoms and navigating challenges.\n
  	Hope and Inspiration: Find encouragement and hope from others who are on
  their own journeys to recovery.\n\nOpen to All:\nThis group is open to an
 yone who is struggling with depression\, anxiety\, or other mental health 
 concerns. Whether you're newly diagnosed or have been on your journey for 
 a while\, you're welcome here.\nFacilitated Support:\nThe group is facilit
 ated by a trained professional who will guide the conversation\, ensure ev
 eryone feels heard\, and provide resources.\nTake the First Step Towards W
 ell-being:\nDon't suffer in silence. Joining this support group can be a p
 owerful step towards recovery. Here you can find:\n\n\n 	Understanding: Co
 nnect with others who get it.\n 	Compassion: Receive support and encourage
 ment in a caring environment.\n 	Empowerment: Gain the tools and confidenc
 e to manage your mental health and thrive.\n\nDon't miss out! Contact us t
 oday to learn more about the group and how to join.\nTogether\, we can sup
 port each other on the path to well-being!\n\n\n\nBUY TICKETS\n
ATTACH;FMTTYPE=image/jpeg:https://breatheatlanta.us/wp-content/uploads/202
 4/04/https___cdn.evbuc_.com_images_680966689_470811598789_1_original.jpeg
CATEGORIES:Wellness Events
LOCATION:6624 Jimmy Carter Blvd\, 6624 Jimmy Carter Boulevard Suite A Norcr
 oss\, GA 30071 United States\, GA \,  United States\, 30071\, GA \, United
  States
X-APPLE-STRUCTURED-LOCATION;VALUE=URI;X-ADDRESS=6624 Jimmy Carter Boulevard
  Suite A Norcross\, GA 30071 United States\, GA \,  United States\, 30071\
 , GA \, United States;X-APPLE-RADIUS=100;X-TITLE=6624 Jimmy Carter Blvd:ge
 o:0,0
END:VEVENT
BEGIN:VTIMEZONE
TZID:America/New_York
X-LIC-LOCATION:America/New_York
BEGIN:DAYLIGHT
DTSTART:20240310T030000
TZOFFSETFROM:-0500
TZOFFSETTO:-0400
TZNAME:EDT
END:DAYLIGHT
END:VTIMEZONE
END:VCALENDAR