BEGIN:VCALENDAR
VERSION:2.0
PRODID:-//wp-events-plugin.com//7.2.3.1//EN
TZID:America/New_York
X-WR-TIMEZONE:America/New_York
BEGIN:VEVENT
UID:157@breatheatlanta.us
DTSTART;TZID=America/New_York:20240426T190000
DTEND;TZID=America/New_York:20240426T200000
DTSTAMP:20240404T004056Z
URL:https://breatheatlanta.us/events/weight-management-101-food-talk-frida
 y-fitness2020-eagles-landing/
SUMMARY:Weight Management 101: FOOD TALK FRIDAY @ Fitness2020 Eagle’s Lan
 ding
DESCRIPTION:Experience the dynamic journey of transformation with Pamela My
 ers Model Fitness (PMMFIT)\, LLC as we proudly present FOOD TALK FRIDAY: A
  12-Week Body Transformation Challenge &amp\; Weight Management Series. On
  this empowering path to wellness and discover the secrets to achieving yo
 ur fitness goals while mastering the art of balanced nutrition.\n\nEvent I
 nformation:\n\nEvent Name: Weight Management 101: FOOD TALK FRIDAY @ Fitne
 ss2020 Eagle’s Landing\n\nHost: PAMELA MYERS MODEL FITNESS (PMMFIT)\, LL
 C\n\nDate and Time: Friday\, April 26 • 7:00 - 8:00pm EDT.\n\nLocation: 
 Fitness 2020 - Eagles Landing\, 200-200 Bus Center Drive\, Stockbridge\, G
 A 30281\, United States\n\nAbout this Event:   FOOD TALK FRIDAY\, part o
 f the 12-week Body Transformation Challenge &amp\; Weight Management Serie
 s presented by PAMELA MYERS MODEL FITNESS (PMMFIT)\, LLC. This event is de
 signed to provide valuable insights into weight management and nutrition.\
 n\nThe Weight Management Series will cover various topics over 12 weeks\, 
 including body\, digestion\, carbohydrates\, protein\, fat\, aerobic exerc
 ise\, anaerobic exercise\, vitamins\, minerals\, weight training\, stress\
 , and the danger zone. Each week delves into a different aspect of nutriti
 on and fitness\, providing essential knowledge and tools for long-term wei
 ght management and overall health.\n\nThis event is highly recommended for
  all exercisers and becoming a PMMFIT SUBSCRIBER/FITNESS2020 MEMBER allows
  you to attend for free. Take control of your weight management journey an
 d this informative session!\n\nTicket Price:\n\nNon-PMMFIT Subscribers: $1
 0.00\n\nPMMFIT Subscribers/BODY TRANSFORMATION Challengers: Free\n\nFitnes
 s2020 Members: $10.00\n\nSales End Date: April 26\, 2024\n\nGET TICKETS\n\
 n&nbsp\;\n\nRefund Policy: Contact the organizer to request a refund. Even
 tbrite's fee is nonrefundable.\n\nWorkout Session Detail:\n\nTitle: FOOD T
 ALK FRIDAY: A 12-Week Body Transformation Challenge &amp\; Weight Manageme
 nt Series\n\nPresenter: PAMELA MYERS MODEL FITNESS (PMMFIT)\, LLC\n\nDurat
 ion: 1 hour\n\nEssential for Attendees:\n\nWillingness to learn about weig
 ht management and nutrition.\n\nInterest in long-term health and fitness\n
 \nParking Option: Parking is available at Fitness 2020 - Eagles Landing.\n
 \n(Note: For PMMFIT Subscribers/Fitness2020 Members\, attendance is free. 
 See the provided link to become a PMMFIT Subscriber or Fitness2020 Member.
 )
ATTACH;FMTTYPE=image/jpeg:https://breatheatlanta.us/wp-content/uploads/202
 4/03/QURAT.jpg
CATEGORIES:Wellness Events
LOCATION:Fitness 2020 - Eagles Landing\,   200-200 Bus Center \, Drive Stoc
 kbridge\, \,  United States\, 30281\, GA \, United States
X-APPLE-STRUCTURED-LOCATION;VALUE=URI;X-ADDRESS=  200-200 Bus Center \, Dri
 ve Stockbridge\, \,  United States\, 30281\, GA \, United States;X-APPLE-R
 ADIUS=100;X-TITLE=Fitness 2020 - Eagles Landing:geo:0,0
END:VEVENT
BEGIN:VTIMEZONE
TZID:America/New_York
X-LIC-LOCATION:America/New_York
BEGIN:DAYLIGHT
DTSTART:20240310T030000
TZOFFSETFROM:-0500
TZOFFSETTO:-0400
TZNAME:EDT
END:DAYLIGHT
END:VTIMEZONE
END:VCALENDAR