BEGIN:VCALENDAR
VERSION:2.0
PRODID:-//wp-events-plugin.com//7.2.3.1//EN
TZID:America/New_York
X-WR-TIMEZONE:America/New_York
BEGIN:VEVENT
UID:81@breatheatlanta.us
DTSTART;TZID=America/New_York:20240413T120000
DTEND;TZID=America/New_York:20240413T150000
DTSTAMP:20240320T070254Z
URL:https://breatheatlanta.us/events/wellbeing-health-fair-vendors/
SUMMARY:Wellbeing Health Fair - Vendors
DESCRIPTION:Step into a realm of empowerment and holistic wellness at the W
 ellbeing Health Fair - Empowering Mental Wellness. This event\, hosted by 
 the esteemed Upsilon Alpha Omega Chapter\, is a beacon of enlightenment in
  the realm of mental health. Join us as we embark on a journey to nurture 
 and uplift the mind\, body\, and spirit. Dive into a diverse array of offe
 rings designed to promote mental wellness\, from informative workshops to 
 interactive sessions and enlightening discussions. Together\, let's embrac
 e a culture of mental well-being and pave the way for a brighter\, more em
 powered future.\n\nEvent Information:\n\nEvent Name: Well being Health Fai
 r - Vendors\n\nHost: Upsilon Alpha Omega Chapter\n\nDate and Time: Saturda
 y\, April 13\, starts at 12:00 p.m EDT\n\nLocation: Rockbridge Elementary 
 School\, 6066 Rockbridge School Road Northwest\, Norcross\, GA 30093\, Uni
 ted States\n\nAbout this Event: Join us at the Wellbeing Health Fair - Ven
 dors\, hosted by the Upsilon Alpha Omega Chapter. This event is dedicated 
 to empowering mental wellness and promoting overall well-being. Attendees 
 will have the opportunity to explore various vendors offering products and
  services aimed at enhancing mental health and holistic wellness. The fair
  aims to provide valuable resources\, information\, and support to individ
 uals seeking to prioritize their mental and emotional well-being.\n\nTicke
 t Information:\n\nWellbeing Health Fair - Vendor: $50.00 (includes sales t
 ax)\n\nGET TICKETS\nEssential for Bring: Attendees and vendors may want to
  bring business cards\, promotional materials\, and any necessary equipmen
 t or displays for their booths.\n\nParking Option: Parking will be availab
 le at Rockbridge Elementary School for attendees and vendors. Please follo
 w event signage and directions from parking attendants for designated park
 ing areas.\n\n
ATTACH;FMTTYPE=image/jpeg:https://breatheatlanta.us/wp-content/uploads/202
 4/03/https___cdn.evbuc_.com_images_709544889_148362859773_1_original.jpg
CATEGORIES:Wellness Events
LOCATION:Rockbridge Elementary School\, 6066 Rockbridge School Road Northwe
 st Norcross\, GA 30093 United States\, GA \,  United States\, 30093\, GA \
 , United States
X-APPLE-STRUCTURED-LOCATION;VALUE=URI;X-ADDRESS=6066 Rockbridge School Road
  Northwest Norcross\, GA 30093 United States\, GA \,  United States\, 3009
 3\, GA \, United States;X-APPLE-RADIUS=100;X-TITLE=Rockbridge Elementary S
 chool:geo:0,0
END:VEVENT
BEGIN:VTIMEZONE
TZID:America/New_York
X-LIC-LOCATION:America/New_York
BEGIN:DAYLIGHT
DTSTART:20240310T030000
TZOFFSETFROM:-0500
TZOFFSETTO:-0400
TZNAME:EDT
END:DAYLIGHT
END:VTIMEZONE
END:VCALENDAR