BEGIN:VCALENDAR
VERSION:2.0
PRODID:-//wp-events-plugin.com//7.2.3.1//EN
TZID:America/New_York
X-WR-TIMEZONE:America/New_York
BEGIN:VEVENT
UID:484@breatheatlanta.us
DTSTART;TZID=America/New_York:20241015T090000
DTEND;TZID=America/New_York:20241015T170000
DTSTAMP:20240925T094928Z
URL:https://breatheatlanta.us/events/wellness-a-comprehensive-guide-1-day-
 workshop-in-sandy-springs-ga/
SUMMARY:Wellness: A Comprehensive Guide 1 Day Workshop in Sandy Springs\, G
 A
DESCRIPTION:Join the Wellness: A Comprehensive Guide 1-day workshop for an 
 immersive experience designed to enhance both personal and organizational 
 wellbeing. This in-person event provides a holistic approach to wellness\,
  covering essential topics like nutrition\, mindfulness\, and corporate we
 llness strategies. Participants will gain practical knowledge and actionab
 le insights to promote a healthier lifestyle and workplace culture.\nWorks
 hop Overview:\n\n 	Certificate: Course Completion Certificate\n 	Language:
  English\n 	Duration: 1 Day\n 	Credits: 8 PDUs\n 	Delivery Format: Classro
 om (includes food and beverages)\n\nCourse Description:\nIn today’s fast
 -paced work environment\, fostering wellness is crucial for both employees
  and organizations. This comprehensive workshop adopts a proactive approac
 h to workplace wellness\, focusing on improving mental and physical health
 \, reducing stress\, and minimizing absenteeism. Attendees will be equippe
 d with the tools and strategies needed to cultivate a culture of wellness\
 , leading to enhanced productivity and a more positive work environment.\n
 Key Benefits:\n\n 	Enhanced Productivity: Healthier employees are more eng
 aged and efficient.\n 	Reduced Absenteeism: Promoting wellness results in 
 fewer sick days and improved attendance.\n 	Positive Work Environment: A f
 ocus on wellness nurtures a supportive\, inclusive workplace culture.\n 	P
 ersonal Empowerment: Participants will learn how to take charge of their o
 wn health and wellbeing.\n\nCourse Contents:\n\n 	Introduction and Objecti
 ves: Overview of wellness and course goals.\n 	The History of Wellness: Un
 derstanding the origins and evolution of wellness practices.\n 	Importance
  of Corporate Wellness Today: The role of wellness in modern organizations
 .\n 	Thought Awareness and Rational Thinking: Techniques to cultivate posi
 tive and rational thinking.\n 	Six Dimensions of Wellness: A holistic fram
 ework for personal health.\n 	Setting Personal Goals and Objectives: Pract
 ical steps for creating wellness goals.\n 	Wellness at Work: How to integr
 ate wellness into the workplace.\n 	Work-Life Balance: Strategies to achie
 ve harmony between work and personal life.\n 	Wellness Action Plans: Creat
 ing individualized wellness strategies.\n 	Case Studies: Real-world exampl
 es of successful wellness programs.\n 	Management Support for Wellness: Ga
 ining leadership buy-in for wellness initiatives.\n\nWhy Attend This Works
 hop?\n\n 	Comprehensive Learning: Gain in-depth knowledge of wellness and 
 its far-reaching impact.\n 	Practical Techniques: Learn strategies for imp
 roving both mental and physical health.\n 	Personal &amp\; Organizational 
 Growth: Contribute to your own well-being and a healthier work environment
 .\n 	Expert Guidance: Learn from seasoned wellness professionals with real
 -life examples.\n\nCourse Features:\nBy the end of the workshop\, particip
 ants will be able to:\n\n 	Define wellness and its critical role in the wo
 rkplace.\n 	Practice techniques for rational and positive thinking.\n 	App
 ly the six dimensions of wellness to daily life.\n 	Understand the importa
 nce of maintaining a healthy work-life balance.\n 	Make the case for imple
 menting workplace wellness programs.\n\nCertification:\nUpon completion\, 
 participants will receive a course completion certificate from Mangates\, 
 validating their commitment to promoting workplace wellness.\nWho Should A
 ttend?\n\n 	HR professionals and managers interested in developing or enha
 ncing wellness programs.\n 	Employees aiming to improve their health and w
 ellbeing.\n 	Individuals seeking to learn and apply wellness principles in
  the workplace.\n\nBenefits of the Wellness Workshop for Teams:\n\n 	Enhan
 ced Well-being: Learn strategies for improving mental and physical health\
 , reducing stress\, and boosting resilience.\n 	Improved Productivity: Hea
 lthier teams are more focused and productive.\n 	Positive Culture: Wellnes
 s programs foster a positive work culture\, increasing morale and reducing
  turnover.\n 	Custom Wellness Programs: Gain the skills to design tailored
  wellness programs suited to specific organizational needs.\n 	Strategic A
 lignment: Align wellness initiatives with business goals to boost employee
  engagement and performance.\n 	Measurable Impact: Track the impact of wel
 lness initiatives on employee satisfaction and productivity.\n 	Adaptabili
 ty: Equip teams with tools to support employees in changing work environme
 nts.\n 	Proactive Wellness: Promote a forward-thinking approach to wellnes
 s\, strengthening the organization’s reputation as a supportive employer
 .\n\n\nGET TICKETS\n
ATTACH;FMTTYPE=image/jpeg:https://breatheatlanta.us/wp-content/uploads/202
 4/09/Wellness-A-Comprehensive-Guide-1-Day-Workshop-in-Sandy-Springs-GA.jpg
CATEGORIES:Wellness Events
END:VEVENT
BEGIN:VTIMEZONE
TZID:America/New_York
X-LIC-LOCATION:America/New_York
BEGIN:DAYLIGHT
DTSTART:20240310T030000
TZOFFSETFROM:-0500
TZOFFSETTO:-0400
TZNAME:EDT
END:DAYLIGHT
END:VTIMEZONE
END:VCALENDAR