BEGIN:VCALENDAR
VERSION:2.0
PRODID:-//wp-events-plugin.com//7.2.3.1//EN
TZID:America/New_York
X-WR-TIMEZONE:America/New_York
BEGIN:VEVENT
UID:29@breatheatlanta.us
DTSTART;TZID=America/New_York:20240310T130000
DTEND;TZID=America/New_York:20240310T150000
DTSTAMP:20240322T083938Z
URL:https://breatheatlanta.us/events/wellness-daytreat-to-reflect-and-refu
 el/
SUMMARY:Wellness Daytreat to reflect and refuel
DESCRIPTION:Event Information:\nExperience tranquility at the Wellness Dayt
 reat\, a 2-hour event at Energy Works ATL. Immerse in restorative practice
 s\, prioritize self-care\, and reconnect with mind\, body\, and soul for a
  revitalized well-being.\n\nDate and Time: Sunday\, March 10 · 1 - 3 pm E
 DT\n\nLocation: Energy Works ATL 1215 Hightower Trail\, Building D\, Suite
  101 Atlanta\, GA 30350\nAbout this Event:\nWellness Daytreat is a 2-hour 
 in-person event at Energy Works ATL\, offering rejuvenation for mind\, bod
 y\, and soul. Immerse yourself in restorative practices\, fostering reflec
 tion\, connection\, and self-care.\n\nHighlights:\n\n 	Mobile eTicket: Con
 venient and accessible through a mobile eTicket.\n 	Rejuvenating Atmospher
 e: Escape the daily hustle for a day of self-care\, focusing on reconnecti
 ng with mind\, body\, and soul.\n 	Restorative Practices: Indulge in activ
 ities designed to refresh and revitalize\, prioritizing your overall welln
 ess.\n\nTicket Information: Contact the organizer for refund requests. Eve
 ntbrite's fee is nonrefundable.\n\nGET TICKETS\n\nWorkout Session Detail: 
 This event emphasizes restorative practices\; specific workout sessions ar
 e not detailed.\n\nEssential to Bring:\n\n 	Open mind and willingness to e
 ngage in wellness activities\n 	Comfortable clothing for relaxation\n 	Per
 sonal items for self-care\, if desired\n\nParking Option: Information on p
 arking is not provided. Verify with Energy Works ATL for available parking
  details.\n\nImmerse yourself in rejuvenation at the Wellness Daytreat\, a
  2-hour event at Energy Works ATL. Prioritize self-care\, connect with you
 r well-being\, and indulge in restorative practices for a refreshed you.
ATTACH;FMTTYPE=image/jpeg:https://breatheatlanta.us/wp-content/uploads/202
 4/03/Wellness-Daytreat.jpg
CATEGORIES:Wellness Events
LOCATION:Energy Works ATL\, 1215 Hightower Trail Building D\, Suite 101 Atl
 anta\, GA 30350\, Atlanta\, GA\, 30350\, GA\, United States
X-APPLE-STRUCTURED-LOCATION;VALUE=URI;X-ADDRESS=1215 Hightower Trail Buildi
 ng D\, Suite 101 Atlanta\, GA 30350\, Atlanta\, GA\, 30350\, GA\, United S
 tates;X-APPLE-RADIUS=100;X-TITLE=Energy Works ATL:geo:0,0
END:VEVENT
BEGIN:VTIMEZONE
TZID:America/New_York
X-LIC-LOCATION:America/New_York
BEGIN:DAYLIGHT
DTSTART:20240310T030000
TZOFFSETFROM:-0500
TZOFFSETTO:-0400
TZNAME:EDT
END:DAYLIGHT
END:VTIMEZONE
END:VCALENDAR