BEGIN:VCALENDAR
VERSION:2.0
PRODID:-//wp-events-plugin.com//7.2.3.1//EN
TZID:America/New_York
X-WR-TIMEZONE:America/New_York
BEGIN:VEVENT
UID:393@breatheatlanta.us
DTSTART;TZID=America/New_York:20240818T103000
DTEND;TZID=America/New_York:20240818T113000
DTSTAMP:20240730T211130Z
URL:https://breatheatlanta.us/events/wellness-in-the-courtyard/
SUMMARY:Wellness in the Courtyard
DESCRIPTION:Join Atlanta Social Yoga\, part of the TNP Wellness Group\, for
  the second year of wellness sessions at Darwin’s beautiful outdoor cour
 tyard in Old Fourth Ward. This season\, we are excited to offer a variety 
 of free wellness opportunities to the Atlanta community.\n\nLed by Melody\
 , classes begin at 10:30 AM\, with convenient on-site parking available. P
 owered by lululemon\, our Sunday wellness sessions go beyond yoga\; they a
 im to foster community and spread trauma-informed practices throughout Atl
 anta.\n\nTNP Wellness\, headquartered in Atlanta\, uses these sessions to 
 support local youth through their foundation. These wellness sessions are 
 completely free and provide the perfect opportunity to enjoy the outdoors 
 while prioritizing your well-being.\n\nAfter class\, enjoy complimentary c
 offee and connect with like-minded individuals. Let’s unite to cultivate
  wellness and uplift our community. Join us at the Darwin courtyard to emb
 race health\, community\, and the beauty of outdoor yoga.\n\nGET TICKETS\n
ATTACH;FMTTYPE=image/jpeg:https://breatheatlanta.us/wp-content/uploads/202
 4/07/Wellness-in-the-Courtyard.jpg
END:VEVENT
BEGIN:VTIMEZONE
TZID:America/New_York
X-LIC-LOCATION:America/New_York
BEGIN:DAYLIGHT
DTSTART:20240310T030000
TZOFFSETFROM:-0500
TZOFFSETTO:-0400
TZNAME:EDT
END:DAYLIGHT
END:VTIMEZONE
END:VCALENDAR