BEGIN:VCALENDAR
VERSION:2.0
PRODID:-//wp-events-plugin.com//7.2.3.1//EN
TZID:America/New_York
X-WR-TIMEZONE:America/New_York
BEGIN:VEVENT
UID:36@breatheatlanta.us
DTSTART;TZID=America/New_York:20240427T190000
DTEND;TZID=America/New_York:20240427T230000
DTSTAMP:20240313T094912Z
URL:https://breatheatlanta.us/events/wellness-renaissance-gala/
SUMMARY:Wellness Renaissance Gala
DESCRIPTION:Submerged in the enchanting atmosphere of the Mason Fine Art Ga
 llery\, the Wellness Renaissance Gala unfolds as an evening seamlessly ble
 nding artistry with holistic well-being.\n\nEvent Information:\n\nEvent Na
 me: Wellness Renaissance Gala\n\nOrganizer: iRise Wellness\n\nDuration: 4 
 hours\n\nDate and Time: Saturday\, April 27\, 7:00 - 11:00 pm EDT\n\nLocat
 ion: Mason Fine Art Gallery\, 764 Miami Circle Northeast #210\, Atlanta\, 
 GA 30324\, United States\n\nTicket Information:\n\nGeneral Admission:\n\nP
 rice: $100.00 +$8.55 Fee\n\nSales End: March 31\, 2024\n\nGeneral Admissio
 n 2:\n\nSales Start: April 1\, 2024\n\nPrice: $150.00 +$11.90 Fee\n\nEarly
  Bird Special:\n\nSales Ended\n\nPrice: $70.00 +$6.54 Fee\n\nVIP Access Ti
 cket:\n\nSales Ended\n\nPrice: $80.00 +$7.21 Fee\n\n&nbsp\;\n\nGET TICKETS
 \n\nWorkout Session Detail:\n\nInformation about a workout session is not 
 provided in the content.\n\nEssentials to Bring:\n\nDress in your finest a
 ttire for the black-tie event.\n\nOpenness to connect\, celebrate\, and su
 pport a healthier future.\n\nAdditional Information: Immerse yourself in t
 he captivating ambiance of the Mason Fine Art Gallery at the Wellness Rena
 issance Gala hosted by iRise Wellness. This black-tie event\, held on Satu
 rday\, April 27\, promises an exquisite fusion of glamour and well-being.\
 n\nAgenda:\n\n7:00 PM - 8:00 PM: Open Doors: Cocktail Hour &amp\; Networki
 ng\n\n8:00 PM: Welcome from Reju &amp\; iRise Wellness\n\n8:30 PM - 9:00 P
 M: Acknowledgements of Sponsors\n\n9:00 PM - 9:30 PM: Scholarship Winner A
 nnouncement\n\n9:30 PM - 10:00 PM: Raffle Giveaway\n\nThe Wellness Renaiss
 ance Gala is more than an event\; it's a platform where the essence of wel
 lness is elevated. Dress in your finest attire\, engage with fellow guests
 \, explore wellness brands\, and contribute to the collective journey towa
 rds a healthier future. Your presence at this black-tie gala supports a no
 ble cause\, creating lasting memories where elegance meets wellness in the
  most refined way possible.
ATTACH;FMTTYPE=image/jpeg:https://breatheatlanta.us/wp-content/uploads/202
 4/03/https___cdn.evbuc_.com_images_662604879_404010090753_1_original.jpg
CATEGORIES:Wellness Events
LOCATION:Mason Fine Art Gallery\, 764 Miami Circle Northeast #210 Atlanta\,
  GA 30324 United States\, Atlanta\, GA\, 30324\, GA\, United States
X-APPLE-STRUCTURED-LOCATION;VALUE=URI;X-ADDRESS=764 Miami Circle Northeast 
 #210 Atlanta\, GA 30324 United States\, Atlanta\, GA\, 30324\, GA\, United
  States;X-APPLE-RADIUS=100;X-TITLE=Mason Fine Art Gallery:geo:0,0
END:VEVENT
BEGIN:VTIMEZONE
TZID:America/New_York
X-LIC-LOCATION:America/New_York
BEGIN:DAYLIGHT
DTSTART:20240310T030000
TZOFFSETFROM:-0500
TZOFFSETTO:-0400
TZNAME:EDT
END:DAYLIGHT
END:VTIMEZONE
END:VCALENDAR