BEGIN:VCALENDAR
VERSION:2.0
PRODID:-//wp-events-plugin.com//7.2.3.1//EN
TZID:America/New_York
X-WR-TIMEZONE:America/New_York
BEGIN:VEVENT
UID:179@breatheatlanta.us
DTSTART;TZID=America/New_York:20240417T191500
DTEND;TZID=America/New_York:20240417T203000
DTSTAMP:20240329T070608Z
URL:https://breatheatlanta.us/events/wellness-wednesday-yoga-class-in-buck
 head/
SUMMARY:"Wellness Wednesday" Yoga Class in Buckhead
DESCRIPTION:\n\n\n\n\n\n\n\n\n\n\n\n\nExperience the tranquility of a begin
 ner's yoga class brimming with relaxation\, meditation\, and restoration a
 t Buckhead Art and Company.\n\nEvent Information:\n\nEvent Name: "Wellness
  Wednesday" Yoga Class in Buckhead\n\nDate and Time: Wednesday\, April 17\
 , 7:15 PM - 8:30 PM EDT.\n\nLocation: Buckhead Art &amp\; Company\, 288 Bu
 ckhead Avenue Northeast\, Atlanta\, GA 30305\, United States\n\nAbout this
  Event: A rejuvenating beginners yoga class at Buckhead Art &amp\; Compan
 y. Hosted by Buckhead Art &amp\; Company\, this session promises relaxatio
 n\, meditation\, and restoration.\n\nAs part of our health and wellness in
 itiatives\, we invite you to discover the transformative power of yoga. Wh
 ether you're seeking relaxation\, healing\, or personal growth\, this clas
 s provides a safe and nurturing space to explore the benefits of yoga. Thr
 ough yoga\, we aim to cultivate a thriving community where every breath an
 d pose brings joy and empowerment. All are welcome to flow with us\, regar
 dless of background or experience level.\n\nTicket Information:\n\nGeneral
  Admission: $25.00\n\nFees: $3.52\n\nSales Tax: $2.54\n\nTotal: $31.06\n\n
 GET TICKETS\n\n\n\nWorkout Session Detail: Beginners yoga class focusing o
 n relaxation\, meditation\, and restoration.\n\nEssentials to Bring: Guest
 s are advised to bring their own towel\, blocks\, mats\, etc.\n\nParking O
 ptions: Parking information is not provided. Attendees are advised to chec
 k local parking availability or consider alternative transportation option
 s.\n\n\n\n\n\n\n\n\n\n\n\n\n\n
ATTACH;FMTTYPE=image/jpeg:https://breatheatlanta.us/wp-content/uploads/202
 4/03/https___cdn.evbuc_.com_images_727221519_1596820804313_1_original.jpeg
CATEGORIES:Wellness Events,Yoga Events
LOCATION:Buckhead Art & Company\, 288 Buckhead Avenue Northeast Atlanta\, G
 A 30305 United States\, GA \, United States\, 30305 \, GA\, United States
X-APPLE-STRUCTURED-LOCATION;VALUE=URI;X-ADDRESS=288 Buckhead Avenue Northea
 st Atlanta\, GA 30305 United States\, GA \, United States\, 30305 \, GA\, 
 United States;X-APPLE-RADIUS=100;X-TITLE=Buckhead Art & Company:geo:0,0
END:VEVENT
BEGIN:VTIMEZONE
TZID:America/New_York
X-LIC-LOCATION:America/New_York
BEGIN:DAYLIGHT
DTSTART:20240310T030000
TZOFFSETFROM:-0500
TZOFFSETTO:-0400
TZNAME:EDT
END:DAYLIGHT
END:VTIMEZONE
END:VCALENDAR