BEGIN:VCALENDAR
VERSION:2.0
PRODID:-//wp-events-plugin.com//7.2.3.1//EN
TZID:America/New_York
X-WR-TIMEZONE:America/New_York
BEGIN:VEVENT
UID:145@breatheatlanta.us
DTSTART;TZID=America/New_York:20240417T183000
DTEND;TZID=America/New_York:20240417T200000
DTSTAMP:20240325T165429Z
URL:https://breatheatlanta.us/events/wellness-wednesdays-black-healing/
SUMMARY:Wellness Wednesdays - Black Healing Circle
DESCRIPTION:Event Information:\n\nEmbark on a holistic journey of well-bein
 g and self-discovery every 3rd Wednesday of the month at "Wellness Wednesd
 ays" with Tanzania Nevels at Black Dot Cultural Center. Experience rejuven
 ation and personal growth in a serene environment!\n\n 	Date and Time: Wed
 nesday\, April 17 · 6:30 - 8pm EDT\n 	Location: Black Dot Cultural Center
 \, 6984 Main Street Lithonia\, GA 30058 United States\n\nAbout this Event:
 \n\nBlack Dot Cultural Center every 3rd Wednesday of the month for "Wellne
 ss Wednesdays" facilitated by Tanzania Nevels. Experience a range of activ
 ities focused on promoting well-being and personal growth in a serene envi
 ronment.\n\nTicket Information:\n\nContact the organizer for ticket detail
 s and availability.\n\n&nbsp\;\n\nGET TICKETS\n\nWorkout Session Detail:\n
 \nThe event offers holistic practices and activities to nourish well-being
 .\n\nEssential for Bring:\n\n 	Open mind for self-discovery and holistic e
 xploration\n 	Willingness to participate in well-being activities\n 	Comfo
 rtable attire for a relaxing environment\n\nParking Option:\n\nAvailable a
 t Black Dot Cultural Center.\n\nImmerse yourself in a journey of self-disc
 overy and holistic wellness at "Wellness Wednesdays" with Tanzania Nevels 
 at Black Dot Cultural Center!
ATTACH;FMTTYPE=image/jpeg:https://breatheatlanta.us/wp-content/uploads/202
 4/03/Wellness-Wednesdays.jpg
CATEGORIES:Wellness Events
LOCATION:Black Dot Cultural Center\, 6984 Main Street Lithonia\, GA 30058 U
 nited States\, Lithonia\, GA\, 30058\, GA\, United States
X-APPLE-STRUCTURED-LOCATION;VALUE=URI;X-ADDRESS=6984 Main Street Lithonia\,
  GA 30058 United States\, Lithonia\, GA\, 30058\, GA\, United States;X-APP
 LE-RADIUS=100;X-TITLE=Black Dot Cultural Center:geo:0,0
END:VEVENT
BEGIN:VTIMEZONE
TZID:America/New_York
X-LIC-LOCATION:America/New_York
BEGIN:DAYLIGHT
DTSTART:20240310T030000
TZOFFSETFROM:-0500
TZOFFSETTO:-0400
TZNAME:EDT
END:DAYLIGHT
END:VTIMEZONE
END:VCALENDAR