BEGIN:VCALENDAR
VERSION:2.0
PRODID:-//wp-events-plugin.com//7.2.3.1//EN
TZID:America/New_York
X-WR-TIMEZONE:America/New_York
BEGIN:VEVENT
UID:734@breatheatlanta.us
DTSTART;TZID=America/New_York;VALUE=DATE:20241213
DTEND;TZID=America/New_York;VALUE=DATE:20250213
DTSTAMP:20241204T063203Z
URL:https://breatheatlanta.us/events/wildwoods-aglow-is-back-at-fernbank-m
 useum/
SUMMARY:WildWoods: AGLOW' Is Back At Fernbank Museum
DESCRIPTION:Mark your calendars for the return of WildWoods: AGLOW\, an ext
 raordinary after-hours experience at the Fernbank Museum\, opening on Nove
 mber 8\, 2024. Now in its third season\, this multi-sensory event transfor
 ms the museum’s WildWoods into a luminous wonderland\, blending the beau
 ty of nature with artful technology. Perfect for all ages\, this year’s 
 event expands on its magic with new features\, including immersive indoor 
 exhibits and a breathtaking giant-screen film.\nA Nighttime Adventure Like
  No Other\n\n 	Explore WildWoods by Night\nUnder the starry sky\, guests a
 re invited to embark on a serene outdoor journey along illuminated pathway
 s that showcase the hidden wonders of nature. Towering light sculptures\, 
 interactive installations\, and radiant projections bring the stories of n
 octurnal life\, pollination\, and connectivity to life. Highlights include
  glowing dandelions\, fluttering dragonflies\, incandescent mushrooms\, an
 d more\, creating an ethereal atmosphere perfect for discovery and reflect
 ion.\n 	New Artistic Installations for 2024\nThe third season introduces e
 xciting additions to the exhibit\, such as dynamic sculptures placed along
  the WildWoods boardwalk. Guests can marvel at shimmering garden light tow
 ers\, bat swarms that glow in the night\, and a captivating tulip poplar p
 od designed to engage and inspire.\n 	Curated Soundscapes and Projections\
 nComplementing the visual splendor\, custom soundscapes and immersive proj
 ections depict nocturnal wildlife and native flora. These elements offer a
  deeper connection to the natural world and create an experience that’s 
 both meditative and enlightening.\n\nFilm Screening: Flight of the Butterf
 lies\nAdding to the evening’s enchantment\, Fernbank will screen the ins
 piring film Flight of the Butterflies. This giant-screen feature chronicle
 s the incredible migration of monarch butterflies\, offering a breathtakin
 g glimpse into one of nature’s most extraordinary journeys.\nFood\, Drin
 ks\, and Special Nights\nThe AGLOW Lounge will feature a selection of deli
 cious food and beverages\, including a full bar for guests 21 and older. S
 pecial event options include adult-only evenings (21+) for a sophisticated
  night out or all-ages nights for family-friendly fun. Museum members enjo
 y discounted pricing for this exclusive seasonal offering.\nA Vision of Co
 nnection\n“We want to give our guests an opportunity to connect with the
  hidden surprises of the nocturnal world\,” says Sarah Arnold\, Director
  of Education at the Fernbank Museum. “Many of the species featured are 
 nocturnal or elusive\, and WildWoods: AGLOW is a rare chance to see their 
 stories come to life.”\n\nDon’t miss this captivating blend of art\, n
 ature\, and discovery. Whether you’re looking for an awe-inspiring famil
 y outing or a magical date night\, WildWoods: AGLOW at Fernbank Museum pro
 mises an unforgettable evening under the glow of the forest.\n\nGET TICKET
 S\n
ATTACH;FMTTYPE=image/jpeg:https://breatheatlanta.us/wp-content/uploads/202
 4/12/WildWoods-AGLOW-Is-Back-At-Fernbank-Museum.png
CATEGORIES:Things To Do
LOCATION:Fernbank Museum of Natural History\, 767 Clifton Rd NE Atlanta\, A
 tlanta\, Georgia\, 30307\, GA\, United States
X-APPLE-STRUCTURED-LOCATION;VALUE=URI;X-ADDRESS=767 Clifton Rd NE Atlanta\,
  Atlanta\, Georgia\, 30307\, GA\, United States;X-APPLE-RADIUS=100;X-TITLE
 =Fernbank Museum of Natural History:geo:0,0
END:VEVENT
BEGIN:VTIMEZONE
TZID:America/New_York
X-LIC-LOCATION:America/New_York
BEGIN:STANDARD
DTSTART:20241103T010000
TZOFFSETFROM:-0400
TZOFFSETTO:-0500
TZNAME:EST
END:STANDARD
END:VTIMEZONE
END:VCALENDAR