BEGIN:VCALENDAR
VERSION:2.0
PRODID:-//wp-events-plugin.com//7.2.3.1//EN
TZID:America/New_York
X-WR-TIMEZONE:America/New_York
BEGIN:VEVENT
UID:526@breatheatlanta.us
DTSTART;TZID=America/New_York:20241015T191000
DTEND;TZID=America/New_York:20241015T200000
DTSTAMP:20240930T100603Z
URL:https://breatheatlanta.us/events/wind-down-relaxation-yoga-session/
SUMMARY:Wind Down Relaxation Yoga Session
DESCRIPTION:Wind Down Relaxation Yoga Session is the perfect way to kick of
 f the weekend with serenity and mindfulness. Participants planning to walk
  in must first contact the front desk of Battle Box Atlanta to secure thei
 r spot prior to arrival\; enrollment will be confirmed at that time.\n\nFo
 r newcomers\, booking through Eventbrite automatically creates an account 
 in the studio's system\, streamlining the process for future visits. Retur
 ning participants will also be enrolled upon completing their Eventbrite p
 urchase\, ensuring a seamless experience. An automatic email confirmation 
 will be sent to all attendees for their records.\n\nWith a limited number 
 of mats available\, this session offers a unique opportunity to unwind\, r
 elax\, and rejuvenate the mind and body. Join us at Yoga at the Box and em
 brace the chance to find balance and tranquility at the start of your week
 end!\n\nGET TICKETS\n
ATTACH;FMTTYPE=image/jpeg:https://breatheatlanta.us/wp-content/uploads/202
 4/09/Wind-Down-Relaxation-Yoga-Session.jpg
CATEGORIES:Yoga Events
LOCATION:1185 West Ave\, Southwest Conyers\, Atlanta\, Georgia\, 30012\, GA
 \, United States
X-APPLE-STRUCTURED-LOCATION;VALUE=URI;X-ADDRESS=Southwest Conyers\, Atlanta
 \, Georgia\, 30012\, GA\, United States;X-APPLE-RADIUS=100;X-TITLE=1185 We
 st Ave:geo:0,0
END:VEVENT
BEGIN:VTIMEZONE
TZID:America/New_York
X-LIC-LOCATION:America/New_York
BEGIN:DAYLIGHT
DTSTART:20240310T030000
TZOFFSETFROM:-0500
TZOFFSETTO:-0400
TZNAME:EDT
END:DAYLIGHT
END:VTIMEZONE
END:VCALENDAR