BEGIN:VCALENDAR
VERSION:2.0
PRODID:-//wp-events-plugin.com//7.2.3.1//EN
TZID:America/New_York
X-WR-TIMEZONE:America/New_York
BEGIN:VEVENT
UID:758@breatheatlanta.us
DTSTART;TZID=America/New_York:20250215T140000
DTEND;TZID=America/New_York:20250215T170000
DTSTAMP:20250201T130902Z
URL:https://breatheatlanta.us/events/wisdom-of-the-body-relax-reset-renew-
 with-allen-pittman/
SUMMARY:Wisdom of the Body – Relax\, Reset & Renew with Allen Pittman
DESCRIPTION:Gateway Performance Productions\, in collaboration with the Lit
 tle 5 Points Community Center\, proudly presents an exclusive in-person wo
 rkshop led by internationally acclaimed teacher\, martial artist\, and yog
 a master Allen Pittman. With decades of experience as an instructor and pe
 rformer\, Pittman has played a pivotal role in shaping Gateway’s program
 ming. Now\, he offers this transformative experience at a significantly re
 duced rate\, providing an opportunity to explore his unique health and wel
 lness protocol.\n\nThis Wisdom of the Body workshop serves as both an intr
 oduction for participants and a specialized training for Gateway artists w
 ho will extend these practices into the local community.\nWhat is Wisdom o
 f the Body?\nWisdom of the Body is a comprehensive mind-body system design
 ed to:\n✅ Release trauma stored in the body\n✅ Restore mental and phys
 ical harmony in the musculature and nervous system\n✅ Prepare individual
 s for life’s existential challenges\n\nAs of 2024\, this is the only exi
 sting system that integrates:\n🔹 Child development principles\n🔹 Yog
 a culture &amp\; spiritual enlightenment\n🔹 Existential self-defense tr
 aining\n\nRooted in innate human movement\, this system weaves together pe
 rsonal history\, global traditions\, and ancient rites of passage. Partici
 pants will engage in animal-inspired movements combined with dynamic self-
 awareness practices.\nWho Can Attend?\n📌 Open to ages 12 and up\n📌 I
 deal for couples seeking a shared growth experience\n📌 Children must be
  accompanied by an adult\n\nLimited spots are available. Early registratio
 n is highly recommended!\nWhat to Bring\n✔ A towel\n✔ Water for hydrat
 ion\n✔ A yoga mat\n✔ Light snacks (optional)\nLocation &amp\; Details\
 n📍 The Mask Center – Little 5 Points Community Center\n1083 Austin Av
 e.\, Ground Floor\, Suite 008\, Atlanta\, GA 30307\n🚗 Free Parking avai
 lable at L5PCC\n\n📢 Can’t attend in person? A simultaneous online ver
 sion is available!\n\n🔗 Register now: Eventbrite Link\n\n\n\nMeet Allen
  Pittman\nA lifelong student of the human body\, Allen Pittman has trained
  with Wisdom teachers worldwide\, bridging medicine\, martial arts\, and y
 oga. His journey began at 15 under Robert W. Smith\, later leading him to 
 Taiwan to study with Hung I Mien and other global masters. With 45 years o
 f dedicated practice\, he developed Wisdom of the Body\, a groundbreaking 
 system that unites the Warrior and the Healer.\n\nBeyond his teachings\, P
 ittman has worked as a security coordinator and personal escort for global
  figures\, including H.H. the Dalai Lama\, Ralph Nader\, Andrew Young\, an
 d Deepak Chopra.\n\n\n\nSupported by:\nThis workshop is made possible thro
 ugh the generous support of:\n✔ Georgia Council for the Arts\n✔ Nation
 al Endowment for the Arts\n✔ Fulton County Commissioners (Community Deve
 lopment &amp\; Veterans Services)\n✔ City of Atlanta – Mayor’s Offic
 e of Cultural Affairs\n✔ Individual contributors\n\n✨ Step into a jour
 ney of self-discovery\, healing\, and empowerment. Join us for Wisdom of t
 he Body! ✨\n\nGET TICKETS\n
ATTACH;FMTTYPE=image/jpeg:https://breatheatlanta.us/wp-content/uploads/202
 5/02/In-Person-WISDOM-OF-THE-BODY-RELAX-RESET-RENEW-with-ALLEN-PITTMAN.jpe
 g
CATEGORIES:Wellness Events
LOCATION:Mask Center\, 1083 Austin Avenue\, Northwest Atlanta\, GA\, 30307\
 , GA\, United States
X-APPLE-STRUCTURED-LOCATION;VALUE=URI;X-ADDRESS=1083 Austin Avenue\, Northw
 est Atlanta\, GA\, 30307\, GA\, United States;X-APPLE-RADIUS=100;X-TITLE=M
 ask Center:geo:0,0
END:VEVENT
BEGIN:VTIMEZONE
TZID:America/New_York
X-LIC-LOCATION:America/New_York
BEGIN:STANDARD
DTSTART:20241103T010000
TZOFFSETFROM:-0400
TZOFFSETTO:-0500
TZNAME:EST
END:STANDARD
END:VTIMEZONE
END:VCALENDAR