BEGIN:VCALENDAR
VERSION:2.0
PRODID:-//wp-events-plugin.com//7.2.3.1//EN
TZID:America/New_York
X-WR-TIMEZONE:America/New_York
BEGIN:VEVENT
UID:655@breatheatlanta.us
DTSTART;TZID=America/New_York:20241028T183000
DTEND;TZID=America/New_York:20241028T230000
DTSTAMP:20241018T085642Z
URL:https://breatheatlanta.us/events/witchcraft-wizardry-fantastic-feast/
SUMMARY:Witchcraft & Wizardry Fantastic Feast
DESCRIPTION:Prepare for a night of enchantment at BrewDog Atlanta\, where m
 agic comes alive! Attendees are invited to dive into a fantastical experie
 nce filled with a sumptuous feast designed for wizards and witches alike. 
 The menu boasts a diverse selection of delicious dishes inspired by the be
 loved wizarding world\, ranging from savory delicacies to sweet confection
 s that will delight every palate.\n\nParticipants are encouraged to embrac
 e the spirit of the evening by dressing as their favorite characters and b
 ringing along their wands for a truly immersive experience. This event pro
 mises to enchant both devoted fans and casual admirers of the wizarding ge
 nre\, ensuring everyone will find something to love.\n\nAs guests gather w
 ith friends for this unforgettable night\, they can expect an atmosphere f
 illed with food\, fun\, and a sprinkle of magic. So don your robes\, prepa
 re your spells\, and join us for an evening that is sure to bewitch all wh
 o attend!\n\nGET TICKETS\n
ATTACH;FMTTYPE=image/jpeg:https://breatheatlanta.us/wp-content/uploads/202
 4/10/Witchcraft-Wizardry-Fantastic-Feast.jpg
CATEGORIES:Food &amp; Drink Events,Things To Do
LOCATION:BrewDog Atlanta\, 112 Krog Street NE Atlanta\, Atlanta\, Georgia\,
  30307\, GA\, United States
X-APPLE-STRUCTURED-LOCATION;VALUE=URI;X-ADDRESS=112 Krog Street NE Atlanta\
 , Atlanta\, Georgia\, 30307\, GA\, United States;X-APPLE-RADIUS=100;X-TITL
 E=BrewDog Atlanta:geo:0,0
END:VEVENT
BEGIN:VTIMEZONE
TZID:America/New_York
X-LIC-LOCATION:America/New_York
BEGIN:DAYLIGHT
DTSTART:20240310T030000
TZOFFSETFROM:-0500
TZOFFSETTO:-0400
TZNAME:EDT
END:DAYLIGHT
END:VTIMEZONE
END:VCALENDAR