BEGIN:VCALENDAR
VERSION:2.0
PRODID:-//wp-events-plugin.com//7.2.3.1//EN
TZID:America/New_York
X-WR-TIMEZONE:America/New_York
BEGIN:VEVENT
UID:649@breatheatlanta.us
DTSTART;TZID=America/New_York:20241024T133000
DTEND;TZID=America/New_York:20241024T153000
DTSTAMP:20241018T082007Z
URL:https://breatheatlanta.us/events/women-in-business-networking-lunch/
SUMMARY:Women in Business : Networking Lunch
DESCRIPTION:As the new month unfolds\, a networking lunch invites women pro
 fessionals\, entrepreneurs\, and sales experts to come together for inspir
 ation and meaningful connections. This gathering is designed to foster ric
 h interactions that can lead to valuable collaborations and resource excha
 nges among women striving to support one another in their professional jou
 rneys.\n\nThe event will include shared appetizers\, but attendees are res
 ponsible for their lunch expenses. This is a chance to reminisce about chi
 ldhood lunchbox days—remember how exciting it was to choose your favorit
 e lunchbox filled with your favorite treats? This gathering embodies that 
 nostalgic feeling\, where the lunchbox symbolizes a supportive community o
 f women entrepreneurs\, while the delicious food represents the engaging c
 onversations and relationships that will nourish both business and persona
 l growth.\n\nAt The Audacity of Her\, the emphasis is on creating an envir
 onment ripe with surprises and opportunities for learning. Each meeting pr
 omises to broaden participants' business acumen and personal development a
 s they explore diverse restaurants across Atlanta.\n\nWhether you are just
  starting your entrepreneurial journey or are an established professional\
 , you are warmly welcomed to join this supportive circle. The bi-monthly l
 unchbox gatherings encourage attendees to bring business cards and share i
 nsights about their work\, ensuring that every participant leaves feeling 
 inspired and connected.\n\nGET TICKETS\n
ATTACH;FMTTYPE=image/jpeg:https://breatheatlanta.us/wp-content/uploads/202
 4/10/Women-in-Business-Networking-Lunch.jpg
CATEGORIES:Things To Do
LOCATION:EATaliano Kitchen\, 900 Battery Avenue Southeast ##1040\, Atlanta\
 , Georgia\, 30339 \, GA\, United States
X-APPLE-STRUCTURED-LOCATION;VALUE=URI;X-ADDRESS=900 Battery Avenue Southeas
 t ##1040\, Atlanta\, Georgia\, 30339 \, GA\, United States;X-APPLE-RADIUS=
 100;X-TITLE=EATaliano Kitchen:geo:0,0
END:VEVENT
BEGIN:VTIMEZONE
TZID:America/New_York
X-LIC-LOCATION:America/New_York
BEGIN:DAYLIGHT
DTSTART:20240310T030000
TZOFFSETFROM:-0500
TZOFFSETTO:-0400
TZNAME:EDT
END:DAYLIGHT
END:VTIMEZONE
END:VCALENDAR