BEGIN:VCALENDAR
VERSION:2.0
PRODID:-//wp-events-plugin.com//7.2.3.1//EN
TZID:America/New_York
X-WR-TIMEZONE:America/New_York
BEGIN:VEVENT
UID:671@breatheatlanta.us
DTSTART;TZID=America/New_York:20241027T130000
DTEND;TZID=America/New_York:20241027T150000
DTSTAMP:20241018T111341Z
URL:https://breatheatlanta.us/events/women-in-wellness-fall-back-into-self
 -care/
SUMMARY:Women In Wellness - Fall Back Into Self-Care
DESCRIPTION:The Women in Wellness - Fall Back into Self-Care event invites 
 women to embark on a rejuvenating journey dedicated to self-care and perso
 nal well-being. Scheduled to take place at Handberry Creative\, this in-pe
 rson gathering offers an incredible opportunity to connect with like-minde
 d women while learning from seasoned wellness experts.\n\nParticipants wil
 l have the chance to immerse themselves in a day focused on prioritizing t
 heir self-care routines. Attendees can explore a variety of wellness-focus
 ed brands\, indulge in rejuvenating chair massages\, and engage in enrichi
 ng activities designed to nourish the mind\, body\, and spirit.\n\nThis ev
 ent is not only about relaxation but also about empowerment and self-disco
 very. Women will leave feeling inspired and equipped with new strategies t
 o enhance their well-being and thrive in their daily lives. Whether partic
 ipants are seasoned wellness enthusiasts or new to self-care practices\, t
 his gathering promises to be a valuable experience.\n\nDon’t miss this u
 nique chance to invest in yourself and connect with a supportive community
  of women. Mark your calendars for a day of relaxation\, learning\, and se
 lf-love. The journey to feeling your best begins here\, and everyone is we
 lcome. See you there!\n\nGET TICKETS\n
ATTACH;FMTTYPE=image/jpeg:https://breatheatlanta.us/wp-content/uploads/202
 4/10/Women-In-Wellness-Fall-Back-Into-Self-Care.jpg
CATEGORIES:Things To Do,Wellness Events
LOCATION:Handberry Creative\, 239 Grant Street Southeast Suite 102 Atlanta\
 , GA 30312 United States\, Atlanta\, GA\, 30312\, GA\, United States
X-APPLE-STRUCTURED-LOCATION;VALUE=URI;X-ADDRESS=239 Grant Street Southeast 
 Suite 102 Atlanta\, GA 30312 United States\, Atlanta\, GA\, 30312\, GA\, U
 nited States;X-APPLE-RADIUS=100;X-TITLE=Handberry Creative:geo:0,0
END:VEVENT
BEGIN:VTIMEZONE
TZID:America/New_York
X-LIC-LOCATION:America/New_York
BEGIN:DAYLIGHT
DTSTART:20240310T030000
TZOFFSETFROM:-0500
TZOFFSETTO:-0400
TZNAME:EDT
END:DAYLIGHT
END:VTIMEZONE
END:VCALENDAR