BEGIN:VCALENDAR
VERSION:2.0
PRODID:-//wp-events-plugin.com//7.2.3.1//EN
TZID:America/New_York
X-WR-TIMEZONE:America/New_York
BEGIN:VEVENT
UID:59@breatheatlanta.us
DTSTART;TZID=America/New_York:20240330T130000
DTEND;TZID=America/New_York:20240330T150000
DTSTAMP:20240314T111115Z
URL:https://breatheatlanta.us/events/women-in-wellness/
SUMMARY:Women In Wellness
DESCRIPTION:\nWomen In Wellness: Connect\, Recharge\, and Thrive!\nCalling 
 all women who prioritize well-being and connection! Women In Wellness is a
  vibrant gathering designed to empower you\, nurture your spirit\, and con
 nect you with a supportive community. Join us at Handberry Creative for a 
 day filled with rejuvenating activities\, inspiring conversations\, and a 
 celebration of all things wellness.\nA Space for Every Woman:\nWhether you
 're a seasoned wellness enthusiast or just beginning your journey\, this e
 vent is for you! Women In Wellness welcomes women from all walks of life w
 ho share a desire to nurture their mind\, body\, and soul.\nEmbrace Your I
 nner Zen:\nThe day kicks off at 1 PM\, allowing you ample time to mingle w
 ith fellow attendees and explore the curated selection of women-owned well
 ness vendors. At 1:30 PM\, settle in for a guided meditation and sound hea
 ling session. This immersive experience will help you de-stress\, find inn
 er peace\, and set the tone for a rejuvenating afternoon.\nMore Than Just 
 Meditation:\nThe event goes beyond a single activity. Here's what you can 
 expect:\n\n\n 	Empowering Talks and Workshops: Gain valuable insights from
  inspiring speakers and workshops focused on various wellness topics.\n 	S
 upport Local\, Empower Women: Explore a curated marketplace featuring prod
 ucts and services from women-owned wellness businesses.\n 	Spark Meaningfu
 l Connections: Network with a supportive community of like-minded women wh
 o share your passion for well-being.\n\nDress for Comfort\, Embrace Inspir
 ation:\nCome in comfortable and stylish attire that allows you to fully pa
 rticipate in the activities. While water is recommended\, bubbles and refr
 eshments will be provided throughout the event\, ensuring a delightful and
  hydrating experience.\nInvest in Yourself\, Celebrate Sisterhood:\nWomen 
 In Wellness is more than just an event\; it's an investment in your well-b
 eing. By prioritizing self-care\, fostering connections\, and celebrating 
 the power of women\, you can cultivate a sense of empowerment and create a
  life filled with wellness.\nReserve Your Spot Today!\nDon't miss this opp
 ortunity to connect\, recharge\, and celebrate the power of women in welln
 ess! Reserve your spot for Women In Wellness today and embark on a journey
  of self-discovery\, community building\, and lasting well-being.\n\n\n\n\
 nBUY TICKETS\n\n
ATTACH;FMTTYPE=image/jpeg:https://breatheatlanta.us/wp-content/uploads/202
 4/03/https___cdn.evbuc_.com_images_710829109_11080229449_1_original.jpeg
CATEGORIES:Wellness Events
LOCATION:Handberry Creative\, 239 Grant Street Southeast Suite 102 \, Atlan
 ta\, Georgia\, 30312\, United States
X-APPLE-STRUCTURED-LOCATION;VALUE=URI;X-ADDRESS=239 Grant Street Southeast 
 Suite 102 \, Atlanta\, Georgia\, 30312\, United States;X-APPLE-RADIUS=100;
 X-TITLE=Handberry Creative:geo:0,0
END:VEVENT
BEGIN:VTIMEZONE
TZID:America/New_York
X-LIC-LOCATION:America/New_York
BEGIN:DAYLIGHT
DTSTART:20240310T030000
TZOFFSETFROM:-0500
TZOFFSETTO:-0400
TZNAME:EDT
END:DAYLIGHT
END:VTIMEZONE
END:VCALENDAR