BEGIN:VCALENDAR
VERSION:2.0
PRODID:-//wp-events-plugin.com//7.2.3.1//EN
TZID:America/New_York
X-WR-TIMEZONE:America/New_York
BEGIN:VEVENT
UID:181@breatheatlanta.us
DTSTART;TZID=America/New_York:20240420T180000
DTEND;TZID=America/New_York:20240420T203000
DTSTAMP:20240329T080958Z
URL:https://breatheatlanta.us/events/women-of-wellness/
SUMMARY:Women of Wellness
DESCRIPTION:\n\n\n\n\n\n\n\n\n\n\n\n\nEvent Information:\n\nDate and Time: 
 Saturday\, April 20 from 6:00 PM to 8:30 PM CDT.\n\nLocation: Heal Center\
 , 270 Carpenter Drive Northeast Suite 500-505\, Atlanta\, GA 30328\, Unite
 d States\n\nTicket price: Free\n\nGET TICKETS\n\n\n\nAbout this Event:\n\n
 Duration: 2 hours 30 minutes\n\nDescription: Ready to step into your Welln
 ess Era? Our newest Signature Event designed to inspire and equip you to l
 ive your best life! Experience a mini meditation\, sound bath\, reiki sess
 ion\, breathwork\, and more! Customize your day of wellness by participati
 ng in the activities that resonate with you.\n\nTicket Information:\n\nGen
 eral Admission: $25.00 + $1.94 Sales Tax (Sales end on April 27\, 2024)\n\
 n2 for 1 Admission: $12.50 + $0.97 Sales Tax (Sales end on April 27\, 2024
 )\n\nSpecial offer: Bring a friend for free! Add two tickets to your cart 
 and pay for the price of one.\n\nWorkout Session Detail:\n\nThe Flow:\n\n1
 0:00 AM: Doors Open\, Grab your wellness kit!\n\n10:15 AM: Dive into our H
 ealth n Wellness Era Mini Panel\n\n11:15 AM: Wellness Experience Room\n\nA
 fter being inspired by our panelists\, enjoy complimentary experience stat
 ions from some of Atlanta's best!\n\nEssential for Bring:\n\nYour wellness
  kits.\n\nOpen mind and heart for inspiration and growth\n\nRefund Policy:
 \n\nContact the organizer to request a refund. Eventbrite's fee is nonrefu
 ndable.\n\n\n\n\n\n\n\n\n\n\n\n\n\n\n\n\n\n\n\n\n\n\n\n\n\n\n\n\n\n
ATTACH;FMTTYPE=image/jpeg:https://breatheatlanta.us/wp-content/uploads/202
 4/03/https___cdn.evbuc_.com_images_707220749_1796780270673_1_original-1.jp
 eg
CATEGORIES:Wellness Events,Yoga Events
LOCATION:Heal Center\, 270 Carpenter Drive Northeast Suite 500-505 Atlanta\
 , \, GA \, United States\, 30328 \, GA\, United States
X-APPLE-STRUCTURED-LOCATION;VALUE=URI;X-ADDRESS=270 Carpenter Drive Northea
 st Suite 500-505 Atlanta\, \, GA \, United States\, 30328 \, GA\, United S
 tates;X-APPLE-RADIUS=100;X-TITLE=Heal Center:geo:0,0
END:VEVENT
BEGIN:VTIMEZONE
TZID:America/New_York
X-LIC-LOCATION:America/New_York
BEGIN:DAYLIGHT
DTSTART:20240310T030000
TZOFFSETFROM:-0500
TZOFFSETTO:-0400
TZNAME:EDT
END:DAYLIGHT
END:VTIMEZONE
END:VCALENDAR