BEGIN:VCALENDAR
VERSION:2.0
PRODID:-//wp-events-plugin.com//7.2.3.1//EN
TZID:America/New_York
X-WR-TIMEZONE:America/New_York
BEGIN:VEVENT
UID:69@breatheatlanta.us
DTSTART;TZID=America/New_York:20240420T080000
DTEND;TZID=America/New_York:20240420T140000
DTSTAMP:20240314T140852Z
URL:https://breatheatlanta.us/events/women-wellness-wealth-conference/
SUMMARY:Women Wellness & Wealth Conference
DESCRIPTION:\nCalling all phenomenal women of the Wellness &amp\; Wealth co
 mmunity!\nImagine a day designed to ignite your inner fire and equip you w
 ith tools for success. The "Wellness &amp\; Wealth Conference\," held at t
 he luxurious JW Marriott Buckhead\, is more than just an event – it's a 
 catalyst for your journey towards empowerment and abundance.\nEnvision you
 rself surrounded by inspiring peers\, learning from industry leaders\, and
  soaking up knowledge tailored specifically to elevate your well-being and
  financial security. This is a vibrant celebration of the collective power
  women possess to thrive\, not just survive.\nThe best part? This transfor
 mative experience is completely FREE! Don't let the price tag fool you –
  you'll gain premium content and actionable strategies to propel you confi
 dently into 2024\, perfectly aligned with the empowering theme: STRIVING F
 OR MORE IN 2024.\nBut hurry\, ladies! Space is limited and reservations ar
 e filling up fast. ⏳\nDon't miss this exceptional opportunity! Claim you
 r complimentary spot TODAY and be a part of this extraordinary gathering.\
 nWe eagerly await the chance to meet you\, share valuable insights\, and e
 mbark on this journey of growth in wellness and wealth together. Remember\
 , your next chapter of greatness is within reach – let's write it togeth
 er!\n\n\n\nBOOK TICKETS\n
ATTACH;FMTTYPE=image/jpeg:https://breatheatlanta.us/wp-content/uploads/202
 4/03/https___cdn.evbuc_.com_images_688505909_964663674783_1_original.jpeg
CATEGORIES:Wellness Events
LOCATION:JW Marriott Atlanta Buckhead\, 3300 Lenox Road Northeast \, Atlant
 a\, Georgia\, 30326 \, United States
X-APPLE-STRUCTURED-LOCATION;VALUE=URI;X-ADDRESS=3300 Lenox Road Northeast \
 , Atlanta\, Georgia\, 30326 \, United States;X-APPLE-RADIUS=100;X-TITLE=JW
  Marriott Atlanta Buckhead:geo:0,0
END:VEVENT
BEGIN:VTIMEZONE
TZID:America/New_York
X-LIC-LOCATION:America/New_York
BEGIN:DAYLIGHT
DTSTART:20240310T030000
TZOFFSETFROM:-0500
TZOFFSETTO:-0400
TZNAME:EDT
END:DAYLIGHT
END:VTIMEZONE
END:VCALENDAR