BEGIN:VCALENDAR
VERSION:2.0
PRODID:-//wp-events-plugin.com//7.2.3.1//EN
TZID:America/New_York
X-WR-TIMEZONE:America/New_York
BEGIN:VEVENT
UID:738@breatheatlanta.us
DTSTART;TZID=America/New_York:20241208T173000
DTEND;TZID=America/New_York:20241208T210000
DTSTAMP:20241204T071053Z
URL:https://breatheatlanta.us/events/woodstock-christmas-jubilee-and-parad
 e/
SUMMARY:Woodstock Christmas Jubilee and Parade
DESCRIPTION:The City of Woodstock invites residents and visitors alike to c
 elebrate the magic of the holidays at its annual Christmas Jubilee &amp\; 
 Parade of Lights. This cherished community tradition brings festive cheer 
 to every corner of the city\, combining the excitement of a dazzling parad
 e with family-friendly activities\, delicious food\, and holiday shopping.
 \nA Parade of Lights to Remember\nThe festivities begin with the spectacul
 ar Parade of Lights\, a procession brimming with holiday spirit. Starting 
 at Woodstock Elementary School on Rope Mill Road\, the parade winds its wa
 y down Main Street\, enchanting spectators with illuminated floats\, march
 ing bands\, and cheerful performers. The route concludes at Sam’s Club n
 ear Highway 92\, leaving a trail of joy and wonder in its wake.\nHoliday F
 un at The Park at City Center\nAfter the parade\, attendees are invited to
  continue the celebration at The Park at City Center\, where a host of fes
 tive activities awaits:\n\n 	Meet Santa Claus\nChildren can share their ho
 liday wishes with Santa himself\, creating magical moments they’ll treas
 ure forever.\n 	Tree Lighting Ceremony\nThe evening sparkles with the ligh
 ting of the city’s holiday tree\, a glowing centerpiece that symbolizes 
 the season’s warmth and joy.\n 	Kid-Friendly Activities\nFamilies can en
 joy an array of engaging activities designed to delight younger attendees\
 , from interactive games to craft stations.\n 	Cupcake Decorating\nKids (a
 nd kids at heart) can channel their inner pastry chef by decorating festiv
 e cupcakes\, adding a sweet touch to the holiday fun.\n\nShopping\, Food\,
  and More\nThe Christmas Jubilee also offers plenty of opportunities to ch
 eck off your holiday shopping list. Vendors line the park\, offering uniqu
 e gifts\, crafts\, and seasonal treasures perfect for spreading cheer.\n\n
 Hungry? Savor the tastes of the season with a variety of food options avai
 lable for purchase. From hearty meals to festive treats\, there’s someth
 ing to satisfy every craving.\nA Community Tradition\nThe Woodstock Christ
 mas Jubilee &amp\; Parade of Lights isn’t just an event—it’s a celeb
 ration of community\, connection\, and holiday spirit. With its blend of j
 oyful activities\, festive sights\, and opportunities to support local ven
 dors\, this beloved tradition captures the heart of the season.\n\nGather 
 your family and friends and head to Woodstock for a day of holiday magic. 
 Whether you’re marveling at the glowing floats\, snapping a photo with S
 anta\, or enjoying the tree lighting ceremony\, this event promises to fil
 l your heart with the joy of the holidays.\n\nGET TICKETS\n
ATTACH;FMTTYPE=image/jpeg:https://breatheatlanta.us/wp-content/uploads/202
 4/12/Woodstock-Christmas-Jubilee-and-Parade.jpg
CATEGORIES:Things To Do
LOCATION:The Park at City Center\, 101 Arnold Mill Rd\, Woodstock\, Atlanta
 \, Georgia\, 30306\,  GA\, United States
X-APPLE-STRUCTURED-LOCATION;VALUE=URI;X-ADDRESS=101 Arnold Mill Rd\, Woodst
 ock\, Atlanta\, Georgia\, 30306\,  GA\, United States;X-APPLE-RADIUS=100;X
 -TITLE=The Park at City Center:geo:0,0
END:VEVENT
BEGIN:VTIMEZONE
TZID:America/New_York
X-LIC-LOCATION:America/New_York
BEGIN:STANDARD
DTSTART:20241103T010000
TZOFFSETFROM:-0400
TZOFFSETTO:-0500
TZNAME:EST
END:STANDARD
END:VTIMEZONE
END:VCALENDAR