BEGIN:VCALENDAR
VERSION:2.0
PRODID:-//wp-events-plugin.com//7.2.3.1//EN
TZID:America/New_York
X-WR-TIMEZONE:America/New_York
BEGIN:VEVENT
UID:117@breatheatlanta.us
DTSTART;TZID=America/New_York:20240401T190000
DTEND;TZID=America/New_York:20240401T200000
DTSTAMP:20240323T090051Z
URL:https://breatheatlanta.us/events/workout-fitness-class-total-body-hiit
 /
SUMMARY:Workout Fitness Class- Total Body Hiit
DESCRIPTION:\n\n\n\n\n\n\n\n\n\n\n\n\n\n\n\n\n\n\n\n\n\n\n\nAs a devoted pe
 rsonal trainer and group instructor\, my commitment extends far beyond the
  physical realm. I'm driven by a profound passion for fostering both menta
 l health and physical fitness in my clients. With a deep understanding of 
 the interconnectedness between mind and body\, I strive to create holistic
  wellness experiences that not only sculpt bodies but also nurture mental 
 resilience and emotional balance. It's not just about lifting weights or r
 unning laps\; it's about empowering individuals to discover their inner st
 rength\, overcome obstacles\, and achieve their full potential\, both insi
 de and outside the gym.\n\n\n\n\n\n\n\n\n\n\n\nEvent Information:\n\nDate 
 and Time: Monday\, April 1\, 7:00 - 8:00 pm EDT.\n\nLocation: EpiFIT Club\
 , 135 Riverside Parkway Austell\, GA 30168\, United States\n\nTicket Price
 : Free\n\nGET TICKETS\n\n\n\n&nbsp\;\n\nAbout this Event:\n Epi Fit Club\,
  for an invigorating Total Body HIIT workout session. Every Monday and Wed
 nesday\, experience a dynamic workout routine designed to push your limits
  and enhance your fitness levels. Space is limited\, so don't miss out on 
 this opportunity to sweat it out and achieve your fitness goals. Members a
 ttend for free\, while visitors can join with a fee payable at the gym.\n\
 nWorkout Session Detail:\n\nThis is a 1-hour HIIT workout class aimed at t
 argeting the entire body.\n\nPrepare to work hard and bring water to stay 
 hydrated throughout the intense session.\n\nEssential for Bring:\n\nWater 
 to stay hydrated.\n\nPositive energy and determination to push yourself.\n
 \nParking Option:\n\nParking facilities are available at EpiFIT Club.\n\nI
 f you're unable to attend in person\, join Toi Sharae's monthly challenges
  or explore virtual training options. Contact Toi Sharae to get started or
  sign up for the monthly challenges. Let's work together towards your fitn
 ess journey!\n\n\n\n\n\n\n\n\n\n\n\n\n\n\n
ATTACH;FMTTYPE=image/jpeg:https://breatheatlanta.us/wp-content/uploads/202
 4/03/https___cdn.evbuc_.com_images_176065029_292622185483_1_original.jpeg
CATEGORIES:Wellness Events,Yoga Events
LOCATION:EpiFIT Club\, 135 Riverside Parkway Austell\, GA 30168 United Stat
 es\, GA\,  United States\, 30168 \, GA\, United States
X-APPLE-STRUCTURED-LOCATION;VALUE=URI;X-ADDRESS=135 Riverside Parkway Auste
 ll\, GA 30168 United States\, GA\,  United States\, 30168 \, GA\, United S
 tates;X-APPLE-RADIUS=100;X-TITLE=EpiFIT Club:geo:0,0
END:VEVENT
BEGIN:VTIMEZONE
TZID:America/New_York
X-LIC-LOCATION:America/New_York
BEGIN:DAYLIGHT
DTSTART:20240310T030000
TZOFFSETFROM:-0500
TZOFFSETTO:-0400
TZNAME:EDT
END:DAYLIGHT
END:VTIMEZONE
END:VCALENDAR