BEGIN:VCALENDAR
VERSION:2.0
PRODID:-//wp-events-plugin.com//7.2.3.1//EN
TZID:America/New_York
X-WR-TIMEZONE:America/New_York
BEGIN:VEVENT
UID:77@breatheatlanta.us
DTSTART;TZID=America/New_York:20240410T190000
DTEND;TZID=America/New_York:20240410T210000
DTSTAMP:20240909T102406Z
URL:https://breatheatlanta.us/events/wow-happy-hours-women-of-wellness/
SUMMARY:WOW Happy Hours - Women of Wellness
DESCRIPTION:Immerse yourself in the vibrant energy of a collective of femal
 e wellness providers\, all driven by a shared passion for cultivating inte
 ntional connections\, fostering collaborations\, and nurturing a thriving 
 community.\n\n\n\n\n\nEvent Information:\nEvent Name: WOW Happy Hours - Wo
 men of Wellness\nHost: The Mirror Impact\nDate and Time: Wednesday\, April
  10\, 7:00 p.m. - 9:00 p.m. EDT\nLocation: 128 E Andrews Dr NW\, 128 East 
 Andrews Drive Northwest\, Atlanta\, GA 30305\, United States\nTicket Price
 :\nGeneral Admission: $10.00\nFees: $2.51\nSales Tax: $1.11\nTotal: $13.62
 \n\nGET TICKETS\n\n\n\n\n\n\n\nAbout this Event: Join us for WOW Happy Hou
 rs - Women of Wellness\, an event organized by The Mirror Impact. Connect 
 with a collective of female wellness providers dedicated to fostering inte
 ntional connections\, collaborations\, and community building. This event 
 offers an opportunity to network\, collaborate\, and engage in group discu
 ssions and activities that inspire creativity and connection.\n\nWorkshop 
 Session Detail:\n\n7:30 PM - 8:00 PM: Open Networking\n\nEngage in open ne
 tworking by grabbing drinks and/or snacks while mingling and connecting wi
 th fellow attendees. Optional conversation prompts will be available to fa
 cilitate interactions.\n\n8:00 PM - 8:30 PM: Elevator Pitch Round Table\n\
 nSeize the opportunity to refine your business or personal elevator pitch 
 in a round table setting. Present yourself\, your business\, and your targ
 et audience in 1 minute or less\, gaining valuable practice and feedback.\
 n\n8:00 PM - 8:30 PM: Human Design Mini Workshop\n\nDelve into a captivati
 ng mini workshop led by Kelly Lynn Prime\, a Yoga Instructor &amp\; Life C
 oach. Explore the intricate facets of Human Design and how it can enhance 
 your relationship with yourself\, others\, and the world around you. Kelly
  brings her expertise to guide attendees through this enlightening experie
 nce.\n\n8:30 PM - 8:30 PM: Group Picture &amp\; Closing Remarks\n\nCapture
  memorable moments with a group picture and wrap up the session with closi
 ng remarks.\n\n8:30 PM - 9:00 PM: Open Networking\n\nConclude the event by
  continuing open networking opportunities\, and fostering connections and 
 conversations among participants.\n\nEssentials to Bring: Attendees are en
 couraged to bring business cards or QR codes to represent their brands and
  facilitate networking. Additionally\, participants may want to bring a no
 tebook and pen for taking notes during the workshop.\n\nParking Option: De
 tails about parking options at 128 E Andrews Dr. NW are not provided. Atte
 ndees are advised to inquire about parking arrangements in advance.\n\n\n\
 n\n\n\n\n\n\n\n\n\n\n\n\n\n\n\n\n\n
ATTACH;FMTTYPE=image/jpeg:https://breatheatlanta.us/wp-content/uploads/202
 4/03/https___cdn.evbuc_.com_images_702970689_501371090223_1_original.jpg
CATEGORIES:Wellness Events,Yoga Events
LOCATION:128 E Andrews Dr NW\, 128 East Andrews Drive Northwest Atlanta\, G
 A 30305 United States\,  GA \,  United States\, 30305\, GA \, United State
 s
X-APPLE-STRUCTURED-LOCATION;VALUE=URI;X-ADDRESS=128 East Andrews Drive Nort
 hwest Atlanta\, GA 30305 United States\,  GA \,  United States\, 30305\, G
 A \, United States;X-APPLE-RADIUS=100;X-TITLE=128 E Andrews Dr NW:geo:0,0
END:VEVENT
BEGIN:VTIMEZONE
TZID:America/New_York
X-LIC-LOCATION:America/New_York
BEGIN:DAYLIGHT
DTSTART:20240310T030000
TZOFFSETFROM:-0500
TZOFFSETTO:-0400
TZNAME:EDT
END:DAYLIGHT
END:VTIMEZONE
END:VCALENDAR