BEGIN:VCALENDAR
VERSION:2.0
PRODID:-//wp-events-plugin.com//7.2.3.1//EN
TZID:America/New_York
X-WR-TIMEZONE:America/New_York
BEGIN:VEVENT
UID:629@breatheatlanta.us
DTSTART;TZID=America/New_York:20241113T190000
DTEND;TZID=America/New_York:20241113T210000
DTSTAMP:20241014T112005Z
URL:https://breatheatlanta.us/events/wow-networking-happy-hour-november/
SUMMARY:WOW Networking Happy Hour - November
DESCRIPTION:Are you a female wellness professional\, coach\, or service pro
 vider based in Atlanta?\n\nIf so\, this is the perfect opportunity for you
 !\n\n 	Do you desire a community of impact-driven women who are passionate
  about health\, wellness\, and helping others?\n 	Are you looking to netwo
 rk\, collaborate\, and build meaningful connections with fellow service pr
 oviders and wellness professionals in Atlanta?\n 	Are you interested in in
 creasing direct referrals through authentic relationships built on honesty
  and trust?\n\nJoin us on the rooftop for our monthly WOW Networking Happy
  Hour\, where you can socialize with like-minded female entrepreneurs and 
 engage in group discussions and activities that foster creativity and conn
 ection.\n\nParticipants are encouraged to represent their brands by bringi
 ng business cards\, promotional materials\, or QR codes. Each attendee wil
 l have 90 seconds to deliver an elevator pitch\, sharing who they are\, wh
 at they do\, who they serve\, and how others can connect with them.\n\nDur
 ing the event\, a featured provider will present a 15-20 minute deep dive 
 into their business\, discussing their services\, background\, and the pas
 sion that drove them into their field of expertise. This is a great opport
 unity to learn how to connect\, support\, and refer one another.\n\nRememb
 er\, we embrace a community-over-competition mindset! This is not a closed
  networking group\, so expect to see multiple wellness coaches\, chiroprac
 tors\, and yoga instructors in attendance. The Mirror Impact values the be
 auty of individual expertise and experience\, empowering each other to mak
 e a more significant impact on the world than we could achieve alone.\n\nT
 ogether\, We Create Change and Make an Impact!\n\nWe look forward to seein
 g you on the rooftop!\n\nYour ticket includes admission\, a raffle entry f
 or a door prize\, and house-made chips and salsa. Gluten-free and vegetari
 an food options\, as well as cocktails and non-alcoholic beverages\, will 
 be available for purchase on-site.\n\nGET TICKETS\n
ATTACH;FMTTYPE=image/jpeg:https://breatheatlanta.us/wp-content/uploads/202
 4/10/WOW-Networking-Happy.jpeg
CATEGORIES:Wellness Events
LOCATION:3589 Durden Dr NE\, 3589 Durden Drive \, Northeast Brookhaven\, Ge
 orgia\, 30319\, GA\, United States
X-APPLE-STRUCTURED-LOCATION;VALUE=URI;X-ADDRESS=3589 Durden Drive \, Northe
 ast Brookhaven\, Georgia\, 30319\, GA\, United States;X-APPLE-RADIUS=100;X
 -TITLE=3589 Durden Dr NE:geo:0,0
END:VEVENT
BEGIN:VTIMEZONE
TZID:America/New_York
X-LIC-LOCATION:America/New_York
BEGIN:STANDARD
DTSTART:20241103T010000
TZOFFSETFROM:-0400
TZOFFSETTO:-0500
TZNAME:EST
END:STANDARD
END:VTIMEZONE
END:VCALENDAR