BEGIN:VCALENDAR
VERSION:2.0
PRODID:-//wp-events-plugin.com//7.2.3.1//EN
TZID:America/New_York
X-WR-TIMEZONE:America/New_York
BEGIN:VEVENT
UID:469@breatheatlanta.us
DTSTART;TZID=America/New_York:20241009T190000
DTEND;TZID=America/New_York:20241009T210000
DTSTAMP:20240923T052832Z
URL:https://breatheatlanta.us/events/wow-networking-happy-hour-october/
SUMMARY:WOW Networking Happy Hour - October
DESCRIPTION:Are you a female wellness professional\, coach\, or service pro
 vider in Atlanta looking to connect with like-minded women? This monthly e
 vent is designed for impact-driven women who are passionate about health\,
  wellness\, and serving others. It offers a unique opportunity to network\
 , collaborate\, and build genuine relationships with fellow wellness profe
 ssionals\, coaches\, and service providers.\n\nIf you’re seeking to grow
  your network and increase direct referrals through authentic rapport\, th
 is is the perfect space for you. Join us on the rooftop for an inspiring e
 vening of connection and collaboration. Each event features group discussi
 ons\, activities that fuel creativity\, and opportunities to build meaning
 ful relationships with other female entrepreneurs.\n\nParticipants are enc
 ouraged to showcase their brand—bring business cards\, handouts\, or QR 
 codes to share. During the event\, you'll have 90 seconds to give an eleva
 tor pitch\, highlighting who you are\, your services\, and how attendees c
 an connect with you. Plus\, a featured provider will present a 15-20 minut
 e talk\, sharing insights about their business\, their journey\, and the p
 assion that drives their work.\n\nWOW Networking is all about fostering a 
 spirit of community over competition. This is not a "closed" networking gr
 oup\, so expect a diverse mix of professionals\, from wellness coaches to 
 chiropractors and yoga instructors. The goal is to embrace the unique expe
 rtise of each attendee\, empowering one another to create a greater impact
  collectively than we could alone.\n\nTogether\, we can create the change 
 we seek and be the impact the world needs!\n\nYour ticket includes event a
 dmission\, entry into a raffle for the door prize\, and house-made chips a
 nd salsa. Additional gluten-free\, vegetarian food options\, cocktails\, a
 nd non-alcoholic beverages will be available for purchase on-site.\n\nSee 
 you on the rooftop!\n\nGET TICKETS\n
ATTACH;FMTTYPE=image/jpeg:https://breatheatlanta.us/wp-content/uploads/202
 4/09/WOW-Networking-Happy-Hour-October.jpg
CATEGORIES:Wellness Events
LOCATION:3589 Durden Dr NE\, 3589 Durden Drive Northeast Brookhaven\, Georg
 ia\,  Atlanta\, 30319\, United States
X-APPLE-STRUCTURED-LOCATION;VALUE=URI;X-ADDRESS=3589 Durden Drive Northeast
  Brookhaven\, Georgia\,  Atlanta\, 30319\, United States;X-APPLE-RADIUS=10
 0;X-TITLE=3589 Durden Dr NE:geo:0,0
END:VEVENT
BEGIN:VTIMEZONE
TZID:America/New_York
X-LIC-LOCATION:America/New_York
BEGIN:DAYLIGHT
DTSTART:20240310T030000
TZOFFSETFROM:-0500
TZOFFSETTO:-0400
TZNAME:EDT
END:DAYLIGHT
END:VTIMEZONE
END:VCALENDAR