BEGIN:VCALENDAR
VERSION:2.0
PRODID:-//wp-events-plugin.com//7.2.3.1//EN
TZID:America/New_York
X-WR-TIMEZONE:America/New_York
BEGIN:VEVENT
UID:793@breatheatlanta.us
DTSTART;TZID=America/New_York:20250302T103000
DTEND;TZID=America/New_York:20250302T133000
DTSTAMP:20250215T153156Z
URL:https://breatheatlanta.us/events/yin-chow-yoga-and-brunch-series-4/
SUMMARY:Yin & Chow: Yoga and Brunch Series
DESCRIPTION:Yin &amp\; Chow: Yoga and Brunch Series at Uptown Atlanta\nJoin
  us for a rejuvenating experience at the Yin &amp\; Chow: Yoga and Brunch 
 Series\, taking place every 1st and 3rd Sunday starting April 7th at the U
 ptown Atlanta Test Kitchen. This unique event combines the calming practic
 e of yin yoga with a delicious\, wholesome brunch to nourish both the body
  and soul.\n\nEvent Details:\n\n 	Location: Uptown Atlanta Test Kitchen\, 
 2440 Piedmont Road\, NE\, Atlanta\, GA 30324\n 	Parking: Convenient parkin
 g is available in the Uptown City Center deck.\n 	Doors Open: 10:00 AM –
  Arrive early to select your preferred mat space and meet the yoga instruc
 tor.\n 	Yoga Session: Begin your Sunday morning with a peaceful and ground
 ing yin yoga session\, focusing on deep stretches and mindfulness.\n 	Brun
 ch Served: The mouthwatering brunch will begin at 12:00 PM\, with a seamle
 ss transition from yoga to enjoying a delicious meal. An armband will be p
 rovided to guests\, allowing them to move effortlessly between the yoga se
 ssion and brunch.\n\nWhy Attend Yin &amp\; Chow?\n\n 	Relax and Recharge: 
 Start your day with a calming yin yoga practice designed to enhance flexib
 ility and relieve stress.\n 	Enjoy a Delicious Meal: After your yoga sessi
 on\, savor a delicious\, wholesome brunch that nourishes your body and sat
 isfies your appetite.\n 	Connect with Community: Meet like-minded individu
 als in a welcoming and relaxing environment\, perfect for unwinding and re
 juvenating on a Sunday morning.\n\nMark Your Calendars\nWhether you’re a
  yoga enthusiast or simply looking for a unique way to spend your Sunday m
 ornings\, Yin &amp\; Chow is the perfect combination of fitness and indulg
 ence. Don’t miss out on this refreshing series\, starting on April 7th.\
 nCome for the yoga\, stay for the brunch—your Sundays will never be the 
 same!\n\n\nGET TICKETS\n
ATTACH;FMTTYPE=image/jpeg:https://breatheatlanta.us/wp-content/uploads/202
 5/02/Yin-Chow-Yoga-and-Brunch-Series.jpg
CATEGORIES:Yoga Events
END:VEVENT
BEGIN:VTIMEZONE
TZID:America/New_York
X-LIC-LOCATION:America/New_York
BEGIN:STANDARD
DTSTART:20241103T010000
TZOFFSETFROM:-0400
TZOFFSETTO:-0500
TZNAME:EST
END:STANDARD
END:VTIMEZONE
END:VCALENDAR