BEGIN:VCALENDAR
VERSION:2.0
PRODID:-//wp-events-plugin.com//7.2.3.1//EN
TZID:America/New_York
X-WR-TIMEZONE:America/New_York
BEGIN:VEVENT
UID:201@breatheatlanta.us
DTSTART;TZID=America/New_York:20240421T103000
DTEND;TZID=America/New_York:20240421T133000
DTSTAMP:20240905T135759Z
URL:https://breatheatlanta.us/events/yin-chow-yoga-and-brunch-series/
SUMMARY:Yin & Chow: Yoga and Brunch Series
DESCRIPTION:\n\n\n\n\n\n\n\n\n\n\n\n\nExperience the delightful fusion of y
 oga and brunch on every 1st and 3rd Sunday\, beginning April 7th. Delight 
 in a tantalizing Pop-up Chef brunch menu alongside Yin\, a deeply meditati
 ve yoga practice.\n\nEvent Information:\n\nEvent Name: Yin &amp\; Chow: Yo
 ga and Brunch Series\n\nDate and Time: Sunday\, April 21\, 10:30 AM - 1:30
  PM EDT.\n\nLocation: 2440 Piedmont Rd NE\, Atlanta\, GA 30344\, United St
 ates\n\nTicket Price:\n\nYoga and Brunch: $25.00\n\nFees: $3.52\n\nTotal: 
 $28.52\n\nGET TICKETS\n\nAbout this Event: Yin &amp\; Chow: Yoga and Brunc
 h Series every 1st and 3rd Sunday starting April 7th. Experience a unique 
 fusion of meditative Yin yoga and delectable Pop-up Chef brunch menu. Door
 s open at 10:00 AM for check-in and tea. Come early to secure your mat spa
 ce and connect with the yoga instructor. An armband will be issued for sea
 mless transition from yoga to brunch\, which will be served starting at 12
 :00 PM.\n\nWorkout Session Detail:\n\nDuration: 3 hours\n\nAgenda:\n\n10:3
 0 AM - 10:45 AM: Yin &amp\; Chow: Check-in &amp\; Drink tea\n\n10:45 AM - 
 11:45 AM: Yin Yoga Session\n\n12:00 PM - 1:30 PM: Chow A-La Carte: Brunch\
 n\nEssentials to Bring:\n\nYoga mat\n\nComfortable clothing\n\nAppetite fo
 r brunch\n\nParking Option: Available at the Uptown City Center deck.\n\nR
 efund Policy: Contact the organizer to request a refund. Eventbrite's fee 
 is nonrefundable.\n\nIndulge in a holistic experience of yoga and brunch\,
  nourishing both body and soul. Reserve your spot today and embark on a jo
 urney of relaxation and culinary delight!\n\n\n\n\n\n\n\n\n\n\n\n\n
ATTACH;FMTTYPE=image/jpeg:https://breatheatlanta.us/wp-content/uploads/202
 4/04/https___cdn.evbuc_.com_images_731414009_2051623905583_1_original-1.jp
 eg
LOCATION:2440 Piedmont Rd NE\, 2440 Piedmont Road Northeast Atlanta\, \, GA
 \, United States\,  30344 \, GA\, United States
X-APPLE-STRUCTURED-LOCATION;VALUE=URI;X-ADDRESS=2440 Piedmont Road Northeas
 t Atlanta\, \, GA\, United States\,  30344 \, GA\, United States;X-APPLE-R
 ADIUS=100;X-TITLE=2440 Piedmont Rd NE:geo:0,0
END:VEVENT
BEGIN:VTIMEZONE
TZID:America/New_York
X-LIC-LOCATION:America/New_York
BEGIN:DAYLIGHT
DTSTART:20240310T030000
TZOFFSETFROM:-0500
TZOFFSETTO:-0400
TZNAME:EDT
END:DAYLIGHT
END:VTIMEZONE
END:VCALENDAR