BEGIN:VCALENDAR
VERSION:2.0
PRODID:-//wp-events-plugin.com//7.2.3.1//EN
TZID:America/New_York
X-WR-TIMEZONE:America/New_York
BEGIN:VEVENT
UID:260@breatheatlanta.us
DTSTART;TZID=America/New_York:20240507T190000
DTEND;TZID=America/New_York:20240507T203000
DTSTAMP:20240422T134913Z
URL:https://breatheatlanta.us/events/yin-yoga-soundbath-meditation-2/
SUMMARY:Yin Yoga & Soundbath Meditation
DESCRIPTION:\nMelt Away Stress &amp\; Find Inner Peace: Yin Yoga &amp\; Sou
 nd Bath\nSeeking relief from pain\, tension\, and anxiety? Join us for a t
 ransformative experience combining the gentle practice of Yin Yoga with a 
 deeply restorative sound bath.\nUnwind &amp\; Rejuvenate:\n\n\n 	Yin Yoga:
  Hold passive yoga postures for extended periods\, targeting your connecti
 ve tissues and promoting deep relaxation.\n 	Sound Bath: Immerse yourself 
 in the soothing vibrations of crystal singing bowls\, chimes\, and other i
 nstruments\, allowing them to wash away stress and promote overall well-be
 ing.\n\nBenefits for Body &amp\; Mind:\n\n\n 	Reduced Pain &amp\; Tension:
  Yin yoga's gentle stretches can improve flexibility and ease discomfort.\
 n 	Calmed Anxiety &amp\; Stress: The combination of slow\, mindful movemen
 ts and immersive sound vibrations creates a deeply relaxing experience.\n 
 	Enhanced Balance &amp\; Wellbeing: Restore a sense of inner peace and har
 mony as you connect with your breath and body.\n\nA Journey of Self-Care:\
 nThis session offers a unique opportunity to prioritize your well-being.\n
 \n\n 	Gentle &amp\; Accessible: Yin yoga is suitable for all levels of exp
 erience\, allowing you to practice at your own pace.\n 	Deeply Restorative
 : Let go of daily worries and immerse yourself in a state of profound rela
 xation.\n 	Reconnect with Yourself: Create space for introspection and sel
 f-discovery during this calming experience.\n\nInvest in Your Well-being:\
 nDon't wait any longer to experience the transformative power of Yin Yoga 
 and Sound Bath. Treat yourself to this rejuvenating practice and discover 
 a path towards a more balanced and peaceful you.\nWhat to Bring:\n\n\n 	Co
 mfortable clothing you can move in easily.\n 	A yoga mat or thick blanket.
 \n 	Optional: An eye mask or pillow for added comfort.\n\nReserve your spo
 t today and embark on a journey of self-care and inner peace!\n\n\n\nBUY T
 ICKETS\n
ATTACH;FMTTYPE=image/jpeg:https://breatheatlanta.us/wp-content/uploads/202
 4/04/https___cdn.evbuc_.com_images_748365599_66732602047_1_original.jpeg
CATEGORIES:Wellness Events
LOCATION:4765 Stone Mountain Hwy\, 4765 Stone Mountain Highway Ste C Lilbur
 n\, GA 30047 United States\, GA \,  United States\, 30047\, GA \, United S
 tates
X-APPLE-STRUCTURED-LOCATION;VALUE=URI;X-ADDRESS=4765 Stone Mountain Highway
  Ste C Lilburn\, GA 30047 United States\, GA \,  United States\, 30047\, G
 A \, United States;X-APPLE-RADIUS=100;X-TITLE=4765 Stone Mountain Hwy:geo:
 0,0
END:VEVENT
BEGIN:VTIMEZONE
TZID:America/New_York
X-LIC-LOCATION:America/New_York
BEGIN:DAYLIGHT
DTSTART:20240310T030000
TZOFFSETFROM:-0500
TZOFFSETTO:-0400
TZNAME:EDT
END:DAYLIGHT
END:VTIMEZONE
END:VCALENDAR