BEGIN:VCALENDAR
VERSION:2.0
PRODID:-//wp-events-plugin.com//7.2.3.1//EN
TZID:America/New_York
X-WR-TIMEZONE:America/New_York
BEGIN:VEVENT
UID:88@breatheatlanta.us
DTSTART;TZID=America/New_York:20240326T190000
DTEND;TZID=America/New_York:20240326T203000
DTSTAMP:20240320T071444Z
URL:https://breatheatlanta.us/events/yin-yoga-soundbath-meditation/
SUMMARY:Yin Yoga & Soundbath Meditation
DESCRIPTION:Yin yoga and sound bath intertwine harmoniously to alleviate va
 rious forms of discomfort such as pain\, tension\, and anxiety\, while fac
 ilitating a restoration of equilibrium within the body. Through the gentle
 \, prolonged stretches of Yin yoga\, deep-seated tensions are gradually re
 leased\, promoting physical relaxation and flexibility. Simultaneously\, t
 he immersive experience of a sound bath envelops participants in a symphon
 y of soothing vibrations\, guiding them into a state of profound relaxatio
 n and inner calm. This holistic approach not only addresses physical ailme
 nts but also nurtures mental well-being\, fostering a sense of balance and
  harmony within the body and mind.\n\nEvent Information:\n\n 	Event Name: 
 Yin Yoga &amp\; Sound bath Meditation\n 	Host: Wellness Vibes\n 	Date and 
 Time: Tuesday\, March 26 • 7:00 PM - 8:30 PM EDT\n 	Location: 4765 Stone
  Mountain Highway Ste C Lilburn\, GA 30047 United States\n 	Ticket Price: 
 General Admission $25.00 + Fees $3.52 = Total $28.52 (Including sales tax)
 \n 	Refund Policy: Contact the organizer for refund inquiries\; Eventbrite
 's fee is nonrefundable.&lt\;\n\nGET TICKETS\n\n\nAbout this Event: Indulg
 e in a session of Yin yoga and sound bath aimed at alleviating pain\, tens
 ion\, and anxiety\, while promoting balance within the body. Hosted by Wel
 lness Vibes\, this 1.5-hour session is designed to provide deep relaxation
  and rejuvenation.\n\nWorkout Session Detail: Participants can expect a co
 mbination of Yin yoga\, focusing on gentle stretches and extended holds to
  target connective tissues\, coupled with a soothing sound bath meditation
 . The session aims to offer holistic wellness benefits\, catering to both 
 physical and mental well-being.\n\nEssential for Bring:\n\n 	Comfortable c
 lothing suitable for yoga practice\n 	Yoga mat\n 	Water bottle\n 	Any addi
 tional props or accessories for personal comfort\n\nParking Option: Parkin
 g facilities are available at the event location.\n\nPlease note: This eve
 nt requires attendees to bring their own yoga mats and wear comfortable at
 tire conducive to yoga practice. For any inquiries regarding refunds\, par
 ticipants are advised to directly contact the event organizer.
ATTACH;FMTTYPE=image/jpeg:https://breatheatlanta.us/wp-content/uploads/202
 4/03/https___cdn.evbuc_.com_images_664408179_66732602047_1_original.jpg
CATEGORIES:Wellness Events,Yoga Events
LOCATION:4765 Stone Mountain Hwy\, 4765 Stone Mountain Highway Ste C Lilbur
 n\, GA 30047 United States\, GA \,  United States\, 30047\, GA \, United S
 tates
X-APPLE-STRUCTURED-LOCATION;VALUE=URI;X-ADDRESS=4765 Stone Mountain Highway
  Ste C Lilburn\, GA 30047 United States\, GA \,  United States\, 30047\, G
 A \, United States;X-APPLE-RADIUS=100;X-TITLE=4765 Stone Mountain Hwy:geo:
 0,0
END:VEVENT
BEGIN:VTIMEZONE
TZID:America/New_York
X-LIC-LOCATION:America/New_York
BEGIN:DAYLIGHT
DTSTART:20240310T030000
TZOFFSETFROM:-0500
TZOFFSETTO:-0400
TZNAME:EDT
END:DAYLIGHT
END:VTIMEZONE
END:VCALENDAR