BEGIN:VCALENDAR
VERSION:2.0
PRODID:-//wp-events-plugin.com//7.2.3.1//EN
TZID:America/New_York
X-WR-TIMEZONE:America/New_York
BEGIN:VEVENT
UID:750@breatheatlanta.us
DTSTART;TZID=America/New_York:20250215T110000
DTEND;TZID=America/New_York:20250215T120000
DTSTAMP:20250201T111855Z
URL:https://breatheatlanta.us/events/yoga-at-the-lake-claire-community-lan
 d-trust/
SUMMARY:Yoga at the Lake Claire Community Land Trust
DESCRIPTION:Nestled within the serene embrace of the Lake Claire Community 
 Land Trust\, this Saturday morning yoga experience offers a unique opportu
 nity to harmonize with nature\, deepen self-awareness\, and cultivate inne
 r peace.\nA Practice Rooted in Connection &amp\; Exploration\nEach session
  invites participants to step onto the mat and embark on a transformative 
 journey of movement and mindfulness. More than just a physical practice\, 
 these gatherings weave in themes of spirituality\, celestial cycles\, and 
 holistic wellness\, creating an immersive and enriching experience that ex
 tends beyond the body.\nGuided by an Inspired Instructor\nLeading the prac
 tice is Vada\, a 200-hour registered yoga teacher since March 2024\, with 
 a deep-rooted passion for movement\, meditation\, and self-discovery. Her 
 approach to yoga is a holistic embodiment of slow-paced vinyasa\, seamless
 ly integrating creative movement modalities to foster an optimal inner and
  outer balance. Through her guidance\, participants are encouraged to view
  the body as a vessel for liberation\, unlocking a deeper connection to th
 eir personal power and innate magic.\nWhy Practice at the Land Trust?\n\n 
 	Reconnect with nature in a tranquil outdoor setting\n 	Flow with the elem
 ents and attune to the rhythms of the natural world\n 	Explore a holistic 
 approach to yoga that nurtures both body and spirit\n 	Join a welcoming co
 mmunity that values presence\, growth\, and shared experience\n\nWhether y
 ou are new to yoga or a seasoned practitioner\, this inclusive and heart-c
 entered practice welcomes all who seek to move\, breathe\, and be in harmo
 ny.\n\nWe look forward to sharing this sacred space and practice with you.
  🌿✨\n\nGET TICKETS\n
ATTACH;FMTTYPE=image/jpeg:https://breatheatlanta.us/wp-content/uploads/202
 5/02/Yoga-at-the-Lake-Claire-Community-Land-Trust.jpeg
CATEGORIES:Wellness Events
LOCATION:Lake Claire Community Land Trust\, 270 Arizona Avenue \, Northeast
  Atlanta\, GA\, 30307\, GA\, United States
X-APPLE-STRUCTURED-LOCATION;VALUE=URI;X-ADDRESS=270 Arizona Avenue \, North
 east Atlanta\, GA\, 30307\, GA\, United States;X-APPLE-RADIUS=100;X-TITLE=
 Lake Claire Community Land Trust:geo:0,0
END:VEVENT
BEGIN:VTIMEZONE
TZID:America/New_York
X-LIC-LOCATION:America/New_York
BEGIN:STANDARD
DTSTART:20241103T010000
TZOFFSETFROM:-0400
TZOFFSETTO:-0500
TZNAME:EST
END:STANDARD
END:VTIMEZONE
END:VCALENDAR