BEGIN:VCALENDAR
VERSION:2.0
PRODID:-//wp-events-plugin.com//7.2.3.1//EN
TZID:America/New_York
X-WR-TIMEZONE:America/New_York
BEGIN:VEVENT
UID:432@breatheatlanta.us
DTSTART;TZID=America/New_York:20240907T080000
DTEND;TZID=America/New_York:20240907T093000
DTSTAMP:20240903T142723Z
URL:https://breatheatlanta.us/events/yoga-at-van-gogh-the-immersive-experi
 ence/
SUMMARY:Yoga at Van Gogh: The Immersive Experience
DESCRIPTION:Prepare to embark on a journey of inner peace and self-discover
 y at Yoga at Van Gogh: The Immersive Experience. This unique mindful yoga 
 session invites you to relax and unwind\, one breath at a time\, within an
  extraordinary setting. Set against the backdrop of Van Gogh's masterpiece
 s\, you’ll practice in a room illuminated by cutting-edge 360° digital 
 projections that bring the artist's work to life in stunning detail.\n\nAs
  you move through each pose\, you'll be guided by a Certified Yoga Instruc
 tor who will help you focus on building strength and flexibility while imm
 ersing yourself in the tranquil ambiance of Van Gogh's art. This harmoniou
 s blend of art and mindfulness creates a serene sanctuary\, perfect for bo
 th beginners and advanced yogis alike.\n\nWhether you're looking to deepen
  your practice\, find a moment of calm\, or simply admire the breathtaking
  visuals\, this experience offers a unique opportunity to connect with you
 r thoughts and emerge feeling refreshed and revitalized. Don’t miss your
  chance to elevate your yoga practice in this one-of-a-kind environment.\n
 \nGET TICKETS\n
ATTACH;FMTTYPE=image/jpeg:https://breatheatlanta.us/wp-content/uploads/202
 4/09/Screenshot-2024-09-03-201704.png
CATEGORIES:Mindfulness Events,Things To Do,Wellness Events,Yoga Events
LOCATION:Exhibition Hub Atlanta Art Center\, 5660 Buford Highway Northeast\
 , Doraville\, Atlanta\, Georgia\, 30340\, GA\, United States
X-APPLE-STRUCTURED-LOCATION;VALUE=URI;X-ADDRESS=5660 Buford Highway Northea
 st\, Doraville\, Atlanta\, Georgia\, 30340\, GA\, United States;X-APPLE-RA
 DIUS=100;X-TITLE=Exhibition Hub Atlanta Art Center:geo:0,0
END:VEVENT
BEGIN:VTIMEZONE
TZID:America/New_York
X-LIC-LOCATION:America/New_York
BEGIN:DAYLIGHT
DTSTART:20240310T030000
TZOFFSETFROM:-0500
TZOFFSETTO:-0400
TZNAME:EDT
END:DAYLIGHT
END:VTIMEZONE
END:VCALENDAR