BEGIN:VCALENDAR
VERSION:2.0
PRODID:-//wp-events-plugin.com//7.2.3.1//EN
TZID:America/New_York
X-WR-TIMEZONE:America/New_York
BEGIN:VEVENT
UID:412@breatheatlanta.us
DTSTART;TZID=America/New_York:20240818T100000
DTEND;TZID=America/New_York:20240818T120000
DTSTAMP:20240802T195037Z
URL:https://breatheatlanta.us/events/yoga-brunch-at-miltons/
SUMMARY:Yoga & Brunch at Milton's!
DESCRIPTION:Join us for "Flow and Feast: Yoga &amp\; Brunch at Milton's Gar
 den\," a delightful 45-minute outdoor yoga class followed by a sumptuous b
 runch on select Sundays this year. Led by the experienced instructor Kim S
 aunders\, this session welcomes all levels of practice\, including beginne
 rs. No prior yoga experience is necessary!\n\nParticipants should bring a 
 yoga mat and are encouraged to bring additional items such as a towel\, ha
 t\, sunscreen\, and water to ensure a comfortable experience.\n\nAfter the
  rejuvenating yoga session\, indulge in a delectable brunch at Milton's. T
 he brunch features a mimosa bar\, fresh juices\, muffins\, and biscuits\, 
 and a buffet that includes quiche\, avocado toast\, bacon or sausage\, and
  a variety of other delicious breakfast items. Don't miss this perfect ble
 nd of relaxation and indulgence in the serene setting of Milton's garden.\
 n\nGET TICKETS\n
ATTACH;FMTTYPE=image/jpeg:https://breatheatlanta.us/wp-content/uploads/202
 4/08/Yoga-Brunch-at-Miltons.jpg
CATEGORIES:Food &amp; Drink Events,Mindfulness Events,Things To
 Do,Wellness Events,Yoga Events
LOCATION:Milton's Cuisine & Cocktails\, 800 Mayfield Road Milton\, Atlanta\
 , Georgia\, 30009\, GA\, United States
X-APPLE-STRUCTURED-LOCATION;VALUE=URI;X-ADDRESS=800 Mayfield Road Milton\, 
 Atlanta\, Georgia\, 30009\, GA\, United States;X-APPLE-RADIUS=100;X-TITLE=
 Milton's Cuisine & Cocktails:geo:0,0
END:VEVENT
BEGIN:VTIMEZONE
TZID:America/New_York
X-LIC-LOCATION:America/New_York
BEGIN:DAYLIGHT
DTSTART:20240310T030000
TZOFFSETFROM:-0500
TZOFFSETTO:-0400
TZNAME:EDT
END:DAYLIGHT
END:VTIMEZONE
END:VCALENDAR