BEGIN:VCALENDAR
VERSION:2.0
PRODID:-//wp-events-plugin.com//7.2.3.1//EN
TZID:America/New_York
X-WR-TIMEZONE:America/New_York
BEGIN:VEVENT
UID:631@breatheatlanta.us
DTSTART;TZID=America/New_York:20241102T103000
DTEND;TZID=America/New_York:20241102T113000
DTSTAMP:20241014T113326Z
URL:https://breatheatlanta.us/events/yoga-by-the-creek/
SUMMARY:Yoga by the Creek
DESCRIPTION:Begin your weekends by rejuvenating your body\, mind\, and spir
 it while embracing the tranquility of nature. This is an invitation to imm
 erse yourself in a peaceful yoga session by the calming waters of Sweetwat
 er Creek\, nestled within Sweetwater Creek State Park in Lithia Springs\, 
 GA.\n\nEvery Saturday at 10:30 AM\, participants can enjoy a unique experi
 ence of connecting with nature. Whether you're new to yoga or have been pr
 acticing for years\, this class is tailored for everyone. The session inco
 rporates gentle yoga movements\, deep breathwork\, and the soothing vibrat
 ions of sound baths\, offering an opportunity to reconnect with your inner
  self. Imagine the gentle flow of the creek in the background\, fresh air 
 filling your lungs\, and the serenity of nature guiding your practice.\n\n
 Event Details:\n\n 	When: Saturdays\, beginning October 2024\n 	Where: Swe
 etwater Creek State Park\n1750 Mt. Vernon Rd.\, Lithia Springs\, GA 30122\
 n 	What: A beginner-friendly session of yoga\, breathwork\, and sound bath
 s\n\nAll you need to bring is your yoga mat\, water\, and an open heart. T
 ogether\, let's create a space for peace\, relaxation\, and connection.\n\
 nGET TICKETS\n\nInvite a friend\, RSVP today\, and let’s embark on this 
 journey of mindfulness and tranquility! 🌿🧘‍♂️✨
ATTACH;FMTTYPE=image/jpeg:https://breatheatlanta.us/wp-content/uploads/202
 4/10/Yoga-by-the-Creek.jpeg
CATEGORIES:Yoga Events
LOCATION:1750 Mt Vernon Rd\, 1750 Mount Vernon Road\, Lithia Springs\, Geor
 gia\, 30122\, GA\, United States
X-APPLE-STRUCTURED-LOCATION;VALUE=URI;X-ADDRESS=1750 Mount Vernon Road\, Li
 thia Springs\, Georgia\, 30122\, GA\, United States;X-APPLE-RADIUS=100;X-T
 ITLE=1750 Mt Vernon Rd:geo:0,0
END:VEVENT
BEGIN:VTIMEZONE
TZID:America/New_York
X-LIC-LOCATION:America/New_York
BEGIN:DAYLIGHT
DTSTART:20240310T030000
TZOFFSETFROM:-0500
TZOFFSETTO:-0400
TZNAME:EDT
END:DAYLIGHT
END:VTIMEZONE
END:VCALENDAR