BEGIN:VCALENDAR
VERSION:2.0
PRODID:-//wp-events-plugin.com//7.2.3.1//EN
TZID:America/New_York
X-WR-TIMEZONE:America/New_York
BEGIN:VEVENT
UID:435@breatheatlanta.us
DTSTART;TZID=America/New_York:20240910T180000
DTEND;TZID=America/New_York:20240910T190000
DTSTAMP:20240903T160706Z
URL:https://breatheatlanta.us/events/yoga-flow-at-10th-street-park/
SUMMARY:Yoga Flow at 10th Street Park
DESCRIPTION:Join us for Yoga Flow at 10th Street Park\, a free community ev
 ent designed to welcome all ages and skill levels. Whether you're a season
 ed yogi or just beginning your practice\, this weekly gathering offers the
  perfect opportunity to connect with your body\, breath\, and the vibrant 
 Midtown community.\n\nEach session invites you to bring your own yoga mat 
 and water bottle as you explore the harmonious blend of movement and breat
 h. Our experienced instructor will guide you through a series of exercises
  aimed at enhancing flexibility and strength\, with a focus on mindful tra
 nsitions and new poses to keep the practice fresh and engaging.\n\nBeyond 
 the physical postures\, expect to delve into the deeper aspects of yoga\, 
 including breathwork\, meditation\, and relaxation techniques. These sessi
 ons are designed to leave you feeling not only refreshed and empowered but
  also more deeply connected to yourself and those around you. Whether you'
 re looking to start your day with energy or wind down in the evening\, thi
 s class promises a fulfilling experience in the heart of Midtown.\n\nGET T
 ICKETS\n
ATTACH;FMTTYPE=image/jpeg:https://breatheatlanta.us/wp-content/uploads/202
 4/09/Yoga-Flow-at-10th-Street-Park.webp
CATEGORIES:Mindfulness Events,Nature Events,Things To Do,Wellness
 Events,Yoga Events
LOCATION:10th Street Park\, Peachtree Street\, Northeast Atlanta\, Georgia\
 , 30309 \, United States
X-APPLE-STRUCTURED-LOCATION;VALUE=URI;X-ADDRESS=Peachtree Street\, Northeas
 t Atlanta\, Georgia\, 30309 \, United States;X-APPLE-RADIUS=100;X-TITLE=10
 th Street Park:geo:0,0
END:VEVENT
BEGIN:VTIMEZONE
TZID:America/New_York
X-LIC-LOCATION:America/New_York
BEGIN:DAYLIGHT
DTSTART:20240310T030000
TZOFFSETFROM:-0500
TZOFFSETTO:-0400
TZNAME:EDT
END:DAYLIGHT
END:VTIMEZONE
END:VCALENDAR