BEGIN:VCALENDAR
VERSION:2.0
PRODID:-//wp-events-plugin.com//7.2.3.1//EN
TZID:America/New_York
X-WR-TIMEZONE:America/New_York
BEGIN:VEVENT
UID:543@breatheatlanta.us
DTSTART;TZID=America/New_York:20241026T110000
DTEND;TZID=America/New_York:20241026T120000
DTSTAMP:20241001T123739Z
URL:https://breatheatlanta.us/events/yoga-flow-with-ray-2/
SUMMARY:Yoga Flow with Ray
DESCRIPTION:Yoga Flow with Ray invites participants to engage in a serene a
 nd intentional space\, promoting connection through movement and breath. T
 his gentle class introduces the vinyasa style of yoga\, guiding attendees 
 through a series of foundational poses that emphasize safe alignment\, smo
 oth transitions\, and mindful breath work.\n\nWhether newcomers or experie
 nced practitioners\, participants will appreciate the focus on developing 
 a deeper awareness of their bodies and breath. Ray’s approach encourages
  a harmonious flow\, allowing individuals to cultivate a sense of calm and
  centeredness while enhancing their overall well-being.\n\nThose intereste
 d in attending can easily register and pay for the class through the provi
 ded link: Register Here. Classes are held at AODÕ Studios\, a welcoming e
 nvironment that fosters health and wellness for everyone.\n\nIn addition t
 o yoga\, AODÕ Studios offers a variety of health and wellness classes\, i
 ncluding dance styles such as Afrobeat\, Salsa\, Fitness\, Heels\, and Hip
  Hop\, ensuring there’s something for everyone in the family. Participan
 ts are encouraged to register for each class and instructor they wish to a
 ttend\, creating a diverse and enriching experience.\n\nJoin Yoga Flow wit
 h Ray for a transformative practice that nurtures both the body and mind w
 hile fostering a sense of community and connection.\n\nGET TICKETS\n
ATTACH;FMTTYPE=image/jpeg:https://breatheatlanta.us/wp-content/uploads/202
 4/10/Yoga-Flow-with-Ray.jpg
CATEGORIES:Yoga Events
LOCATION:AODÕ Studios located within M street\, 944 Marietta St NW buildin
 g 6000\, Atlanta\, Georgia\, 30318\, GA\, United States
X-APPLE-STRUCTURED-LOCATION;VALUE=URI;X-ADDRESS=944 Marietta St NW building
  6000\, Atlanta\, Georgia\, 30318\, GA\, United States;X-APPLE-RADIUS=100;
 X-TITLE=AODÕ Studios located within M street:geo:0,0
END:VEVENT
BEGIN:VTIMEZONE
TZID:America/New_York
X-LIC-LOCATION:America/New_York
BEGIN:DAYLIGHT
DTSTART:20240310T030000
TZOFFSETFROM:-0500
TZOFFSETTO:-0400
TZNAME:EDT
END:DAYLIGHT
END:VTIMEZONE
END:VCALENDAR