BEGIN:VCALENDAR
VERSION:2.0
PRODID:-//wp-events-plugin.com//7.2.3.1//EN
TZID:America/New_York
X-WR-TIMEZONE:America/New_York
BEGIN:VEVENT
UID:161@breatheatlanta.us
DTSTART;TZID=America/New_York:20240601T110000
DTEND;TZID=America/New_York:20240601T120000
DTSTAMP:20240327T232620Z
URL:https://breatheatlanta.us/events/yoga-flow-with-ray/
SUMMARY:Yoga Flow with Ray
DESCRIPTION:\n\n\n\n\n\n\n\n\n\n\n\n\nPrepare yourself for an immersive jou
 rney into the world of yoga with Ray at AODO Studios. This in-person yoga 
 event promises a dynamic and invigorating experience\, where you'll be gui
 ded through a transformative practice led by Ray himself. Get ready to flo
 w\, to connect with your breath\, and to explore the depths of movement an
 d mindfulness in a welcoming and supportive environment. It's more than ju
 st a yoga session—it's an opportunity to rejuvenate your body\, mind\, a
 nd spirit\, all within the vibrant setting of AODO Studios.\n\nEvent Infor
 mation:\n\nEvent Name: Yoga Flow with Ray\n\nHost: Ms. Hughes\n\nDate and 
 Time: Saturday\, June 1\, 11:00 AM - 12:00 PM EDT\n\nAbout this Event: Thi
 s event offers a dynamic and invigorating yoga practice led by Ray\, focus
 ing on breath and movement\, at AODÕ Studios.\n\nYoga Flow with Ray offer
 s participants an opportunity to connect and flow through a gentle practic
 e of breath and movement. Led by Ray\, this event introduces vinyasa style
  yoga with a focus on foundational poses\, safe alignment\, transitions\, 
 and breath work. Held at AODÕ Studios\, participants can expect an invigo
 rating experience aimed at promoting well-being and mindfulness.\n\nRegist
 ration and payment can be completed through the provided link. Additionall
 y\, participants are encouraged to explore other health and wellness class
 es offered by AODÕ Studios\, including dance classes ranging from Afrobea
 t to Hip Hop.\n\nTicket Information:\n\nGeneral Admission: $11.00 + $2.58 
 Fee\n\nWatch Online: $7.00 + $2.31 Fee\n\nGET TICKETS\n\nSales end on June
  1\, 2024\n\nWorkout Session Detail: Gentle flow of breath and movement\, 
 introducing vinyasa style yoga with focus on safe alignment\, transitions\
 , and breath work.\n\nEssential for Participants: Registration and payment
  required. Sign up for health and wellness classes along with dance classe
 s.\n\nParking Option: Available at AODÕ Studios located within M Street\,
  944 Marietta St SW Building 6000 Atlanta\, GA 30318\, United States.\n\nR
 efund Policy: Contact the organizer for refund requests\; Eventbrite's fee
  is nonrefundable.\n\n&nbsp\;\n\n\n\n\n\n\n\n\n\n\n\n\n
ATTACH;FMTTYPE=image/jpeg:https://breatheatlanta.us/wp-content/uploads/202
 4/03/https___cdn.evbuc_.com_images_570950329_276218083986_1_original.jpg
CATEGORIES:Wellness Events,Yoga Events
LOCATION:AODÕ Studios located within M street\, 944 marietta st sw buildin
 g 6000 atlanta\, GA 30318 United States\, GA  \, United States\, 30318\, G
 A \, United States
X-APPLE-STRUCTURED-LOCATION;VALUE=URI;X-ADDRESS=944 marietta st sw building
  6000 atlanta\, GA 30318 United States\, GA  \, United States\, 30318\, GA
  \, United States;X-APPLE-RADIUS=100;X-TITLE=AODÕ Studios located within 
 M street:geo:0,0
END:VEVENT
BEGIN:VTIMEZONE
TZID:America/New_York
X-LIC-LOCATION:America/New_York
BEGIN:DAYLIGHT
DTSTART:20240310T030000
TZOFFSETFROM:-0500
TZOFFSETTO:-0400
TZNAME:EDT
END:DAYLIGHT
END:VTIMEZONE
END:VCALENDAR