BEGIN:VCALENDAR
VERSION:2.0
PRODID:-//wp-events-plugin.com//7.2.3.1//EN
TZID:America/New_York
X-WR-TIMEZONE:America/New_York
BEGIN:VEVENT
UID:274@breatheatlanta.us
DTSTART;TZID=America/New_York:20240520T093000
DTEND;TZID=America/New_York:20240520T103000
DTSTAMP:20240513T180723Z
URL:https://breatheatlanta.us/events/yoga-for-all-levels-2/
SUMMARY:Yoga For All Levels
DESCRIPTION:\nUnwind\, Recharge\, and Find Your Inner Yogi: All-Levels Yoga
  Flow!\nSeeking a path to relaxation and rejuvenation? Look no further tha
 n our all-levels yoga class! Whether you're a seasoned yogi or just starti
 ng your yoga journey\, this class welcomes you with open arms.\nEmbrace Yo
 ur Practice:\n\n\n 	Suitable for All: First session is free! This class ca
 ters to everyone\, from beginners taking their first steps on the mat to e
 xperienced practitioners seeking to refine their practice.\n 	Reduce Stres
 s &amp\; Find Peace: Yulia\, your experienced instructor\, will guide you 
 through a gentle flow of postures and breathing exercises. Each movement w
 ill help you unwind\, de-stress\, and find inner peace.\n 	Enhance Your We
 llbeing: More than just physical postures\, this class focuses on cultivat
 ing a deeper awareness of your breath and movement. You'll experience impr
 oved flexibility\, build strength\, and gain a greater sense of body align
 ment.\n 	Refresh &amp\; Recharge: Leave the session feeling rejuvenated an
 d energized. This slow-paced flow will leave you feeling centered and read
 y to take on the day.\n\nA World of Benefits:\n\n\n 	Mobility &amp\; Stren
 gth: A combination of mobility and strength-building exercises will enhanc
 e your overall physical well-being.\n 	Increased Awareness: The mindful pr
 actice of yoga cultivates a deeper connection between your breath and move
 ment.\n 	Stress Reduction: Yoga's calming practices are a powerful tool fo
 r managing stress and promoting relaxation.\n\nJoin the Community:\n\n\n 	
 Don't Be Shy: This welcoming environment is perfect for beginners and expe
 rienced yogis alike. No prior experience is necessary\, just an open mind 
 and a willingness to explore!\n 	Bring Your Essentials: Remember to bring 
 your yoga mat and a water bottle to stay hydrated throughout the session.\
 n\nDiscover the transformative power of yoga! Join Yulia in this all-level
 s class and embark on a journey towards a healthier\, happier you!\nHashta
 gs:\n#YogaForAll #FreeFirstClass #StressRelief #YogaFlow #IncreaseFlexibil
 ity #MindBodyConnection\n\n\n\nBUY TICKETS\n
ATTACH;FMTTYPE=image/jpeg:https://breatheatlanta.us/wp-content/uploads/202
 4/05/https___cdn.evbuc_.com_images_513211599_1550749607733_1_original.jpeg
CATEGORIES:Wellness Events
LOCATION:Aum Studio for Wellness\,  11550 Webb Bridge Way #Suite B2 \, GA\,
  Alpharetta\, 30005 \, GA\, United States
X-APPLE-STRUCTURED-LOCATION;VALUE=URI;X-ADDRESS= 11550 Webb Bridge Way #Sui
 te B2 \, GA\, Alpharetta\, 30005 \, GA\, United States;X-APPLE-RADIUS=100;
 X-TITLE=Aum Studio for Wellness:geo:0,0
END:VEVENT
BEGIN:VTIMEZONE
TZID:America/New_York
X-LIC-LOCATION:America/New_York
BEGIN:DAYLIGHT
DTSTART:20240310T030000
TZOFFSETFROM:-0500
TZOFFSETTO:-0400
TZNAME:EDT
END:DAYLIGHT
END:VTIMEZONE
END:VCALENDAR