BEGIN:VCALENDAR
VERSION:2.0
PRODID:-//wp-events-plugin.com//7.2.3.1//EN
TZID:America/New_York
X-WR-TIMEZONE:America/New_York
BEGIN:VEVENT
UID:95@breatheatlanta.us
DTSTART;TZID=America/New_York:20240326T080000
DTEND;TZID=America/New_York:20240326T090000
DTSTAMP:20240323T060513Z
URL:https://breatheatlanta.us/events/yoga-for-all-levels/
SUMMARY:Yoga For All Levels
DESCRIPTION:Indulge in the tranquility of an in-person yoga session\, thoug
 htfully crafted to embrace practitioners of every level. Join us and immer
 se yourself in a revitalizing experience tailored to meet your individual 
 needs and aspirations\n\nEvent Information:\n\nEvent Name: Yoga For All Le
 vels\n\nHost: Aum Studio For Wellness\n\nDate and Time: Tuesday\, March 26
 \, 8:00 - 9:00 AM EDT\n\nLocation: Aum Studio for Wellness\, 11550 Webb Br
 idge Way #Suite B2 Alpharetta\, GA 30005\, United States\n\nAbout this Eve
 nt:\n\nExperience the tranquility and revitalization of a rejuvenating yog
 a session\, tailored for practitioners of all levels. Led by Yulia\, our e
 xperienced instructor\, this class is meticulously designed to guide you t
 hrough a series of invigorating poses and breathing exercises\, leaving yo
 u refreshed and energized. Whether you seek to enhance flexibility\, allev
 iate stress\, or embark on a journey of self-discovery\, this session is p
 erfectly crafted for you.\n\nTicket Information:\n\nFirst Session: Free\n\
 nTicket Price: $25.00 (1 x First Session - Free) + $3.52 (Fees) = $28.52\n
 \nDelivery: eTicket\, no additional charge\n\nGET TICKETS\n\nWorkout Sessi
 on Detail:\n\nSlow-paced flow\n\nFocus on the foundations of postures\n\nI
 ncorporates mobility\, strength\, and alignment drills\n\nEssential for Br
 ing:\n\nYoga mat\n\nWater bottle\n\nParking Option: Parking is available a
 t the Aum Studio for Wellness location.\n\nRefund Policy: Contact the orga
 nizer to request a refund. Eventbrite's fee is nonrefundable.
ATTACH;FMTTYPE=image/jpeg:https://breatheatlanta.us/wp-content/uploads/202
 4/03/asd.jpg
CATEGORIES:Wellness Events,Yoga Events
LOCATION:Aum Studio for Wellness\,  11550 Webb Bridge Way #Suite B2 \, GA\,
  Alpharetta\, 30005 \, GA\, United States
X-APPLE-STRUCTURED-LOCATION;VALUE=URI;X-ADDRESS= 11550 Webb Bridge Way #Sui
 te B2 \, GA\, Alpharetta\, 30005 \, GA\, United States;X-APPLE-RADIUS=100;
 X-TITLE=Aum Studio for Wellness:geo:0,0
END:VEVENT
BEGIN:VTIMEZONE
TZID:America/New_York
X-LIC-LOCATION:America/New_York
BEGIN:DAYLIGHT
DTSTART:20240310T030000
TZOFFSETFROM:-0500
TZOFFSETTO:-0400
TZNAME:EDT
END:DAYLIGHT
END:VTIMEZONE
END:VCALENDAR