BEGIN:VCALENDAR
VERSION:2.0
PRODID:-//wp-events-plugin.com//7.2.3.1//EN
TZID:America/New_York
X-WR-TIMEZONE:America/New_York
BEGIN:VEVENT
UID:394@breatheatlanta.us
DTSTART;TZID=America/New_York:20240810T093000
DTEND;TZID=America/New_York:20240810T130000
DTSTAMP:20240801T075855Z
URL:https://breatheatlanta.us/events/yoga-foraging-and-community/
SUMMARY:Yoga\, Foraging\, and Community
DESCRIPTION:Join us in the heart of Atlanta for an immersive experience ded
 icated to co-creating a healthy and thriving community. Murmurr is an emer
 gent collective practice aimed at cultivating inner and outer harmony whil
 e exploring our collective potential to seed a compassionate culture for b
 oth present and future realities. Let's amplify Love\, Play\, and Creative
  Imagination together!\nEvent Schedule:\n\n 	Move (9:30 - 11:00 AM): Start
  your day with Yoga and Movement Games led by Stephy Joy. Release stagnati
 on and open your body\, mind\, and spirit to new pathways of being in the 
 world.\n 	Understand (11:00 AM - 12:00 PM): Engage in a Social Hour to dee
 pen connections and share wisdom within the community. Bring food or explo
 re the farmers market for a nourishing experience.\n 	Relate (12:00 - 1:00
  PM): Join Josh Wayne for a Mushroom and Plant Walk. Turn your heart towar
 ds the natural world and practice compassionate relationships with all lif
 e.\n\nWhile we encourage participation in the full experience\, you are we
 lcome to attend the segment that best suits your needs and schedule. We me
 et near the MURMUR statue\, close to the 12th St. entrance\, adjacent to t
 he Piedmont Park farmers market. For ease of parking\, use 15th St. as we 
 may venture into Ansley Park for the foraging experience. Bring a yoga mat
 \, plenty of water\, and a backpack for the walk.\n\nThese events are held
  outdoors\, and in the event of heavy rain or storms\, our gathering will 
 be postponed to the following Saturday. Tickets for rain cancellations wil
 l be honored for future events.\n\nOur activities are intended for all age
 s\, including families with children. Children under 18 are welcome with a
  donation of any amount to our 501(c)(3) non-profit. Event times are appro
 ximate and may be adjusted based on the group's needs. We will notify regi
 stered participants of any schedule changes.\n\nCome and be part of a comp
 assionate and creative community experience that fosters harmony and conne
 ction.\n\nGET TICKETS\n
ATTACH;FMTTYPE=image/jpeg:https://breatheatlanta.us/wp-content/uploads/202
 4/08/Yoga-Foraging-and-Community.jpg
CATEGORIES:Mindfulness Events,Things To Do,Wellness Events,Yoga Events
LOCATION:The Green Market at Piedmont Park\, 1071 Piedmont Avenue Northeast
  Atlanta\, Atlanta\, GA\, 30309\, GA\, United States
X-APPLE-STRUCTURED-LOCATION;VALUE=URI;X-ADDRESS=1071 Piedmont Avenue Northe
 ast Atlanta\, Atlanta\, GA\, 30309\, GA\, United States;X-APPLE-RADIUS=100
 ;X-TITLE=The Green Market at Piedmont Park:geo:0,0
END:VEVENT
BEGIN:VTIMEZONE
TZID:America/New_York
X-LIC-LOCATION:America/New_York
BEGIN:DAYLIGHT
DTSTART:20240310T030000
TZOFFSETFROM:-0500
TZOFFSETTO:-0400
TZNAME:EDT
END:DAYLIGHT
END:VTIMEZONE
END:VCALENDAR