BEGIN:VCALENDAR
VERSION:2.0
PRODID:-//wp-events-plugin.com//7.2.3.1//EN
TZID:America/New_York
X-WR-TIMEZONE:America/New_York
BEGIN:VEVENT
UID:182@breatheatlanta.us
DTSTART;TZID=America/New_York:20240420T180000
DTEND;TZID=America/New_York:20240420T203000
DTSTAMP:20240909T102506Z
URL:https://breatheatlanta.us/events/yoga-in-the-park-adams-park/
SUMMARY:YOGA IN THE PARK @ ADAMS PARK
DESCRIPTION:\n\n\n\n\n\n\n\n\n\n\n\n\nEvent Information:\n\nEvent Name: YOG
 A IN THE PARK @ ADAMS PARK\n\nDate and Time: Sunday\, April 14 from 10:00 
 AM to 11:00 AM EDT.\n\nLocation: Adams Park\, 1620 Delowe Drive Southwest\
 , Atlanta\, GA 30311\, United States\n\nAbout this Event:\n\nDuration: 1 h
 our\n\nElevate your Sundays with FREE yoga sessions at Adams Park\, Southw
 est Atlanta! your community for a healthier you with rejuvenating yoga ses
 sions suitable for all levels - beginner\, intermediate\, or advanced!\n\n
 No strings attached! Just show up\, connect with your neighbors\, and embr
 ace the yoga vibes to foster a strong and healthy community together.\n\nW
 hile our dedicated instructors graciously volunteer their expertise\, we w
 elcome any donations\, big or small\, to support them.\n\nTicket Informati
 on:\n\nTicket Price: Free\n\nRegistration required for all participants.\n
 \nGET TICKETS\n\n\n\nWorkout Session Detail:\n\nClass Schedule: Every Sund
 ay\, from April 7 to September 25\, 10:00 AM to 11:00 AM EDT\n\nLocation: 
 Hank Aaron Baseball Fields\, next to the Adams Park Recreation Center.\n\n
 Instructions: Arrive early to secure your spot\; class starts promptly at 
 10:00 AM. Parking is abundant on both sides of the baseball field and oper
 ates on a first-come\, first-served basis.\n\nEssential for Bring:\n\nYoga
  mat or blanket\n\nBottled water\n\nSunscreen and bug repellent\n\nUmbrell
 a (just in case!)\n\nOpen mind and spirit\n\nParking Options:\n\nParking i
 s available on both sides of the baseball field and operates on a first-co
 me\, first-served basis.\n\nLet's unite\, stretch\, and thrive together in
  our vibrant community! See you there! 🌿 #FreeYoga #HealthyLiving #Sout
 hwestAtlanta\n\n\n\n\n\n\n\n\n\n\n\n\n\n
ATTACH;FMTTYPE=image/jpeg:https://breatheatlanta.us/wp-content/uploads/202
 4/03/https___cdn.evbuc_.com_images_727971749_456917908012_1_original-1.jpe
 g
CATEGORIES:Wellness Events,Yoga Events
LOCATION:Adams Park\, 1620 Delowe Drive Southwest Atlanta\, \, GA United St
 ates\, United States\,  30311\, GA\, United States
X-APPLE-STRUCTURED-LOCATION;VALUE=URI;X-ADDRESS=1620 Delowe Drive Southwest
  Atlanta\, \, GA United States\, United States\,  30311\, GA\, United Stat
 es;X-APPLE-RADIUS=100;X-TITLE=Adams Park:geo:0,0
END:VEVENT
BEGIN:VTIMEZONE
TZID:America/New_York
X-LIC-LOCATION:America/New_York
BEGIN:DAYLIGHT
DTSTART:20240310T030000
TZOFFSETFROM:-0500
TZOFFSETTO:-0400
TZNAME:EDT
END:DAYLIGHT
END:VTIMEZONE
END:VCALENDAR