BEGIN:VCALENDAR
VERSION:2.0
PRODID:-//wp-events-plugin.com//7.2.3.1//EN
TZID:America/New_York
X-WR-TIMEZONE:America/New_York
BEGIN:VEVENT
UID:204@breatheatlanta.us
DTSTART;TZID=America/New_York:20240418T000000
DTEND;TZID=America/New_York:20240418T000000
DTSTAMP:20240401T090208Z
URL:https://breatheatlanta.us/events/yoga-in-the-park-powered-by-lululemon
 /
SUMMARY:Yoga In The Park Powered By lululemon
DESCRIPTION:\n\n\n\n\n\n\n\n\n\n\n\n\nCome for a rejuvenating outdoor yoga 
 session in the park. Take a deep breath\, stretch your body\, and discover
  your inner peace with us\, energized by lululemon and DDY!\n\nEvent Infor
 mation:\n\nEvent Name: Yoga In the Park Powered By lululemon.\n\nDate and 
 Time: Thursday\, April 18\, 6:00 PM - 7:00 PM EDT.\n\nLocation: Active Ova
 l\, Piedmont Avenue Northeast\, Atlanta\, GA 30309\, United States\n\nTick
 et Price: FREE\n\nGET TICKETS\n\n\n\nAbout this Event: Elevate your yoga e
 xperience with the return of Yoga in the Park\, a beloved community-center
 ed event in Atlanta! Join us on the lush Active Oval of Piedmont Park as D
 ancing Dogs Yoga teams up with lululemon to create an unforgettable outdoo
 r yoga experience.\n\nWorkout Session Detail:\n\nDuration: 1 hour\n\nFocus
 : Outdoor yoga session to breathe\, stretch\, and find inner zen.\n\nEssen
 tials to Bring:\n\nYoga mat\n\nWater bottle\n\nFriend to share the experie
 nce.\n\nParking Option: Available at Piedmont Park.\n\nAdditional Informat
 ion: Registration is required for every participant. Sign up in advance to
  facilitate check-in and be eligible for cool prizes.\n\nImmerse yourself 
 in the vibrant energy of Atlanta's skyline and unwind amidst the beauty of
  nature. Let's flow together and celebrate wellness and community through 
 the transformative power of yoga. See you on the mat!\n\n\n\n\n\n\n\n\n\n\
 n\n\n\n
ATTACH;FMTTYPE=image/jpeg:https://breatheatlanta.us/wp-content/uploads/202
 4/04/https___cdn.evbuc_.com_images_727842099_11431803359_1_original.jpeg
CATEGORIES:Wellness Events,Yoga Events
LOCATION:Active Oval\, Piedmont Avenue Northeast Atlanta\, GA 30309 United 
 States\, GA \, United States\, 30309 \,  GA \, United States
X-APPLE-STRUCTURED-LOCATION;VALUE=URI;X-ADDRESS=Piedmont Avenue Northeast A
 tlanta\, GA 30309 United States\, GA \, United States\, 30309 \,  GA \, Un
 ited States;X-APPLE-RADIUS=100;X-TITLE=Active Oval:geo:0,0
END:VEVENT
BEGIN:VTIMEZONE
TZID:America/New_York
X-LIC-LOCATION:America/New_York
BEGIN:DAYLIGHT
DTSTART:20240310T030000
TZOFFSETFROM:-0500
TZOFFSETTO:-0400
TZNAME:EDT
END:DAYLIGHT
END:VTIMEZONE
END:VCALENDAR