BEGIN:VCALENDAR
VERSION:2.0
PRODID:-//wp-events-plugin.com//7.2.3.1//EN
TZID:America/New_York
X-WR-TIMEZONE:America/New_York
BEGIN:VEVENT
UID:97@breatheatlanta.us
DTSTART;TZID=America/New_York:20240427T090000
DTEND;TZID=America/New_York:20240427T110000
DTSTAMP:20240320T073819Z
URL:https://breatheatlanta.us/events/yoga-in-the-salt-cave-with-tenisha-ca
 mille/
SUMMARY:Yoga In The Salt Cave with Tenisha Camille
DESCRIPTION:Allow the gentle rhythm of your breath to synchronize with the 
 serene ambiance of the salt cave\, as you gracefully move through yoga pos
 es\, inviting a sense of calm and rejuvenation to envelop your entire bein
 g.\n\nEvent Information:\n\nEvent Name: Yoga In The Salt Cave with Tenisha
  Camille\n\nHost: Yoga with Tenisha Camille\, LLC\n\nDate and Time: Saturd
 ay\, April 27\, 9:00 - 11:00 AM EDT\n\nLocation: Saltville Grotto &amp\; S
 pa\, 2447 Main Street East\, Snellville\, GA 30078\, United States\n\nAbou
 t this Event:\n\nImmerse yourself in the tranquil ambiance of Salt Cave Yo
 ga led by the renowned Tenisha Camille. This unique experience allows you 
 to synchronize your breath with the serene atmosphere of halotherapy\, whe
 re tiny salt particles enhance your respiratory health. Discover the myria
 d benefits of halotherapy\, from detoxification and improved sleep pattern
 s to enhanced circulation and sinusitis relief. With only 10 spots availab
 le per session\, reserve your place now and journey towards inner harmony 
 and well-being.\n\nTicket Information:\n\nGeneral Admission: $25.00\n\nSal
 es Tax: $1.50\n\nDelivery: eTicket\, no additional charge\n\nTotal: $26.50
 \n\n&nbsp\;\n\nGET TICKETS\n\nWorkout Session Detail:\n\nDuration: 2 hours
 \n\nYoga practice conducted within a salt cave\n\nFocus on synchronized br
 eathing and relaxation\n\nEssential for Bring:\n\nComfortable yoga attire\
 n\nWater bottle\n\nYoga mat (optional)\n\nParking Option:\n\nParking is av
 ailable at Saltville Grotto &amp\; Spa.\n\nRefund Policy:\n\nContact the o
 rganizer to request a refund. Eventbrite's fee is nonrefundable
ATTACH;FMTTYPE=image/jpeg:https://breatheatlanta.us/wp-content/uploads/202
 4/03/456.jpg
CATEGORIES:Wellness Events,Yoga Events
LOCATION:Saltville Grotto & Spa\, 2447 Main Street East Snellville\, GA 300
 78 United States\,  GA\, United States\,  30078 \, GA\, United States
X-APPLE-STRUCTURED-LOCATION;VALUE=URI;X-ADDRESS=2447 Main Street East Snell
 ville\, GA 30078 United States\,  GA\, United States\,  30078 \, GA\, Unit
 ed States;X-APPLE-RADIUS=100;X-TITLE=Saltville Grotto & Spa:geo:0,0
END:VEVENT
BEGIN:VTIMEZONE
TZID:America/New_York
X-LIC-LOCATION:America/New_York
BEGIN:DAYLIGHT
DTSTART:20240310T030000
TZOFFSETFROM:-0500
TZOFFSETTO:-0400
TZNAME:EDT
END:DAYLIGHT
END:VTIMEZONE
END:VCALENDAR