BEGIN:VCALENDAR
VERSION:2.0
PRODID:-//wp-events-plugin.com//7.2.3.1//EN
TZID:America/New_York
X-WR-TIMEZONE:America/New_York
BEGIN:VEVENT
UID:703@breatheatlanta.us
DTSTART;TZID=America/New_York:20241121T190000
DTEND;TZID=America/New_York:20241122T000000
DTSTAMP:20241024T175015Z
URL:https://breatheatlanta.us/events/yoga-meetup-atlanta/
SUMMARY:Yoga Meetup - Atlanta
DESCRIPTION:\n\n\n\n\nYoga Meetup - Atlanta: A Virtual Gathering for Wellne
 ss Enthusiasts\n\nJoin a vibrant community of wellness enthusiasts for the
  Atlanta Yoga Meetup\, a virtual event designed for those passionate about
  health and mindfulness. Whether you're a seasoned yogi or just beginning 
 your journey\, this meetup offers an inclusive space to connect with like-
 minded individuals\, practice yoga\, and share tips on holistic well-being
 .\n\nIn addition to focusing on yoga and mindfulness\, participants will a
 lso have the opportunity to engage with local foodies and explore the inte
 rsection of nutrition and wellness. Discussions will cover healthy eating 
 habits\, recipes\, and how nutrition complements a mindful lifestyle.\n\nT
 his virtual event allows attendees to connect\, practice\, and share exper
 iences from the comfort of their own homes. Whether you’re looking to de
 epen your yoga practice or simply want to meet others who share your passi
 on for wellness\, the Atlanta Yoga Meetup is the perfect space to foster n
 ew connections and explore personal growth.\n\nEvent Highlights:\n\n 	Yoga
  practice and mindfulness sessions\n 	Networking with wellness and nutriti
 on enthusiasts\n 	Discussions on healthy living and mindful eating\n\nJoin
  us for an enriching and energizing virtual experience!\n\n\n\n\n\n\n\n\n\
 n&nbsp\;\n\n4o\n\n\n\n\nGET TICKETS\n
ATTACH;FMTTYPE=image/jpeg:https://breatheatlanta.us/wp-content/uploads/202
 4/10/Yoga-Meetup-Atlanta.jpeg
CATEGORIES:Yoga Events
LOCATION:Atlanta\, Atlanta\, Atlanta\, GA\, United States
X-APPLE-STRUCTURED-LOCATION;VALUE=URI;X-ADDRESS=Atlanta\, Atlanta\, GA\, Un
 ited States;X-APPLE-RADIUS=100;X-TITLE=Atlanta:geo:0,0
END:VEVENT
BEGIN:VTIMEZONE
TZID:America/New_York
X-LIC-LOCATION:America/New_York
BEGIN:STANDARD
DTSTART:20241103T010000
TZOFFSETFROM:-0400
TZOFFSETTO:-0500
TZNAME:EST
END:STANDARD
END:VTIMEZONE
END:VCALENDAR