BEGIN:VCALENDAR
VERSION:2.0
PRODID:-//wp-events-plugin.com//7.2.3.1//EN
TZID:America/New_York
X-WR-TIMEZONE:America/New_York
BEGIN:VEVENT
UID:193@breatheatlanta.us
DTSTART;TZID=America/New_York:20240421T140000
DTEND;TZID=America/New_York:20240421T150000
DTSTAMP:20240404T113406Z
URL:https://breatheatlanta.us/events/yoga-on-the-farm/
SUMMARY:Yoga On The Farm
DESCRIPTION:Immerse yourself in serenity  for a tranquil yoga session amid
 st the soothing ambiance of the farm!\n\nEvent Information:\n\nEvent Name:
  Yoga On The Farm\n\nHost: Atlanta Harvest\n\nDate and Time: Sunday\, Apri
 l 21 • 2:00 PM - 3:00 PM EDT\n\nLocation: Atlanta Harvest 3529 Anvilbloc
 k Road Ellenwood\, GA 30294 United States\n\nAbout this Event: Escape the 
 hustle and bustle of city life and immerse yourself in the serene beauty o
 f nature at Yoga On The Farm\, hosted by Atlanta Harvest. Join us for a re
 juvenating yoga session amidst the tranquil surroundings of the farm. Led 
 by experienced instructors from Sanskrit Moon Yoga Center\, this hour-long
  session promises to refresh your mind\, energize your body\, and leave yo
 u feeling rejuvenated. Whether you're a seasoned yogi or a beginner\, this
  in-person event offers the perfect opportunity to connect with your inner
  peace and embrace the tranquility of nature. Please bring your own yoga m
 at or towel and water for hydration.\n\nTicket Information:\n\n1 x General
  Admission: $15.00\n\nSubtotal: $15.00\n\nFees: $2.85\n\nSales Tax: $1.43\
 n\nTotal: $19.28\n\nGET TICKETS\n\nWorkout Session Detail:\n\nClasses will
  run from 2:00 PM to 3:00 PM\, weather permitting.\n\nRecommended for ages
  13 and up.\n\nEssential for Bring:\n\nWater\n\nYoga mat or towel to pract
 ice on\n\nParking Option: N/A\n\nIndulge in a blissful afternoon of yoga a
 midst nature's tranquility at Yoga On The Farm. Join us at Atlanta Harvest
  for an invigorating session that will leave you feeling refreshed\, energ
 ized\, and ready to conquer the new week ahead.
ATTACH;FMTTYPE=image/jpeg:https://breatheatlanta.us/wp-content/uploads/202
 4/03/12313131.jpg
CATEGORIES:Wellness Events,Yoga Events
LOCATION:Atlanta Harvest\,   3529 Anvilblock \, Road Ellenwood\, \, United 
 States\, 30294 \, GA \, United States
X-APPLE-STRUCTURED-LOCATION;VALUE=URI;X-ADDRESS=  3529 Anvilblock \, Road E
 llenwood\, \, United States\, 30294 \, GA \, United States;X-APPLE-RADIUS=
 100;X-TITLE=Atlanta Harvest:geo:0,0
END:VEVENT
BEGIN:VTIMEZONE
TZID:America/New_York
X-LIC-LOCATION:America/New_York
BEGIN:DAYLIGHT
DTSTART:20240310T030000
TZOFFSETFROM:-0500
TZOFFSETTO:-0400
TZNAME:EDT
END:DAYLIGHT
END:VTIMEZONE
END:VCALENDAR