BEGIN:VCALENDAR
VERSION:2.0
PRODID:-//wp-events-plugin.com//7.2.3.1//EN
TZID:America/New_York
X-WR-TIMEZONE:America/New_York
BEGIN:VEVENT
UID:428@breatheatlanta.us
DTSTART;TZID=America/New_York:20240921T100000
DTEND;TZID=America/New_York:20240921T110000
DTSTAMP:20240903T120450Z
URL:https://breatheatlanta.us/events/yoga-on-the-lawn-powered-by-lululemon
 /
SUMMARY:Yoga on the Lawn powered by lululemon
DESCRIPTION:Embrace the summer season and immerse yourself in the vibrant e
 nergy of Yoga on the Lawn\, powered by lululemon. This rejuvenating outdoo
 r yoga session\, held in partnership with Yonder Yoga (@yonderyoga) and le
 d by lululemon ambassador Jamin King (@theatlantayogi)\, is the perfect wa
 y to celebrate summer.\n\nJoin us for this free\, monthly event at Ashford
  Lane\, where you'll experience a 60-minute vinyasa flow set to a high-ene
 rgy playlist designed to invigorate your body and mind. Whether you're a s
 easoned yogi or new to the practice\, this session welcomes all levels.\n\
 nAfter your practice\, stick around and enjoy refreshments at the nearby r
 estaurants\, making it a complete experience of wellness and community. Do
 n’t miss this opportunity to flow\, connect\, and celebrate the season i
 n the heart of summer!\n\nGET TICKETS\n
ATTACH;FMTTYPE=image/jpeg:https://breatheatlanta.us/wp-content/uploads/202
 4/09/Yoga-on-the-Lawn-powered-by-lululemon.jpg
CATEGORIES:Mindfulness Events,Things To Do,Wellness Events,Yoga Events
LOCATION:Ashford Lane\, 4500 Olde Perimeter Way\, Atlanta\, Georgia\, 30346
 \, GA\, United States
X-APPLE-STRUCTURED-LOCATION;VALUE=URI;X-ADDRESS=4500 Olde Perimeter Way\, A
 tlanta\, Georgia\, 30346\, GA\, United States;X-APPLE-RADIUS=100;X-TITLE=A
 shford Lane:geo:0,0
END:VEVENT
BEGIN:VTIMEZONE
TZID:America/New_York
X-LIC-LOCATION:America/New_York
BEGIN:DAYLIGHT
DTSTART:20240310T030000
TZOFFSETFROM:-0500
TZOFFSETTO:-0400
TZNAME:EDT
END:DAYLIGHT
END:VTIMEZONE
END:VCALENDAR