BEGIN:VCALENDAR
VERSION:2.0
PRODID:-//wp-events-plugin.com//7.2.3.1//EN
TZID:America/New_York
X-WR-TIMEZONE:America/New_York
BEGIN:VEVENT
UID:434@breatheatlanta.us
DTSTART;TZID=America/New_York:20240911T180000
DTEND;TZID=America/New_York:20240911T190000
DTSTAMP:20240903T154546Z
URL:https://breatheatlanta.us/events/yoga-on-the-square-powered-by-lululem
 on/
SUMMARY:Yoga on the Square Powered by lululemon
DESCRIPTION:Step onto the mat and embrace tranquility with Yoga on the Squa
 re\, powered by lululemon. This outdoor class invites you to unwind and fi
 nd your flow in a peaceful\, community-centered environment. To make your 
 experience even more seamless\, lululemon is providing complimentary yoga 
 mats for use during the session\, ensuring that all you need to bring is y
 our presence and an open mind.\n\nSimply check in upon arrival\, grab a ma
 t\, and get ready to immerse yourself in a rejuvenating practice that will
  leave you feeling balanced and refreshed. Whether you're a seasoned yogi 
 or new to the practice\, this class offers the perfect opportunity to conn
 ect with yourself and others in a serene outdoor setting.\n\nDon’t miss 
 this chance to join your community in a collective breath of fresh air\, g
 uided by expert instructors who will lead you through a session designed t
 o enhance both body and mind.\n\nGET TICKETS\n
ATTACH;FMTTYPE=image/jpeg:https://breatheatlanta.us/wp-content/uploads/202
 4/09/lululemon-Play-Well-Peachtree-City.jpg
CATEGORIES:Mindfulness Events,Things To Do,Wellness Events,Yoga Events
LOCATION:Colony Square\, 1197 Peachtree Street Northeast Atlanta\, Atlanta\
 , Georgia\, 30361\, GA\, United States
X-APPLE-STRUCTURED-LOCATION;VALUE=URI;X-ADDRESS=1197 Peachtree Street North
 east Atlanta\, Atlanta\, Georgia\, 30361\, GA\, United States;X-APPLE-RADI
 US=100;X-TITLE=Colony Square:geo:0,0
END:VEVENT
BEGIN:VTIMEZONE
TZID:America/New_York
X-LIC-LOCATION:America/New_York
BEGIN:DAYLIGHT
DTSTART:20240310T030000
TZOFFSETFROM:-0500
TZOFFSETTO:-0400
TZNAME:EDT
END:DAYLIGHT
END:VTIMEZONE
END:VCALENDAR